BEGIN:VCALENDAR
PRODID:NingEventWidget-v1
VERSION:2.0
METHOD:PUBLISH
BEGIN:VTIMEZONE
TZID:Europe/Paris
X-LIC-LOCATION:Europe/Paris
BEGIN:DAYLIGHT
TZOFFSETFROM:+0100
TZOFFSETTO:+0200
TZNAME:CEST
DTSTART:19700329T020000
RRULE:FREQ=YEARLY;BYMONTH=3;BYDAY=-1SU
END:DAYLIGHT
BEGIN:STANDARD
TZOFFSETFROM:+0200
TZOFFSETTO:+0100
TZNAME:CET
DTSTART:19701025T030000
RRULE:FREQ=YEARLY;BYMONTH=10;BYDAY=-1SU
END:STANDARD
END:VTIMEZONE
BEGIN:VEVENT
UID:2485226:Event:799549
DTSTAMP:20260421T232100Z
SUMMARY:Le secret de la naissance
DESCRIPTION:A chaque naissance, c'est l'émerveillement ! Un petit êt
 re est là qui a déjà son caractère et sa volonté. D'où vient-il 
 ? Est-il vraiment issu de ses parents ? En découvrant d'où viennent 
 les enfants et comment ils s'incarnent dans le petit corps en formatio
 n, l'auditeur découvrira comment il  est lui-même arrivé ici sur T
 erre, puisqu'il a été, lui aussi, l'un de ces enfants.\nL'auteur/con
 férencier répondra aux questions après l'exposé.\nOrganisé avec l
 'association \"Les chantiers du futur\"\nEntrée 6 euro\n \n\nPour pl
 us d'information, aller sur https://epanews.fr/events/le-secret-de-la-
 naissance
DTSTART;TZID=Europe/Paris:20120702T090000
DTEND;TZID=Europe/Paris:20120702T110000
CATEGORIES:17
LOCATION:Abbaye aux Dames
WEBSITE:http://graal.org
URL:http://graal.org
CONTACT:05 46 90 52 77
ORGANIZER:les chantiers du futur www.leschantiersdufutur.new.fr
ATTACH;FMTTYPE="image/jpeg":
ATTENDEE;ROLE=REQ-PARTICIPANT;PARTSTAT=ACCEPTED;RSVP=TRUE;CN=ephemere:
 https://epanews.fr/profile/bernardrafaele
ATTENDEE;ROLE=REQ-PARTICIPANT;PARTSTAT=ACCEPTED;RSVP=TRUE;CN="Bernard 
 Penverne":https://epanews.fr/profile/BernardPenverne
END:VEVENT
END:VCALENDAR
