BEGIN:VCALENDAR
PRODID:NingEventWidget-v1
VERSION:2.0
METHOD:PUBLISH
BEGIN:VTIMEZONE
TZID:Europe/Paris
X-LIC-LOCATION:Europe/Paris
BEGIN:DAYLIGHT
TZOFFSETFROM:+0100
TZOFFSETTO:+0200
TZNAME:CEST
DTSTART:19700329T020000
RRULE:FREQ=YEARLY;BYMONTH=3;BYDAY=-1SU
END:DAYLIGHT
BEGIN:STANDARD
TZOFFSETFROM:+0200
TZOFFSETTO:+0100
TZNAME:CET
DTSTART:19701025T030000
RRULE:FREQ=YEARLY;BYMONTH=10;BYDAY=-1SU
END:STANDARD
END:VTIMEZONE
BEGIN:VEVENT
UID:2485226:Event:2936777
DTSTAMP:20260419T203250Z
SUMMARY:Le réveil de la femme sauvage samedi 26 mai 2018
DESCRIPTION:Je vous propose une journée consacrée au réveil de votr
 e femme sauvage, de votre énergie féminine – la shakti.\n \nLa fe
 mme sauvage est un concept qui a été mis en avant par Clarissa Pinko
 la Estès dans son livre « Femmes qui courent avec les loups », el
 le-même inspirée par la théorie Jungienne de l’individuation ou p
 lus récemment appelé « noces alchimiques intérieures ».\n \nLa
  femme sauvage est en paix avec son masculin intérieur, avec son anim
 us. La rencontre de son masculin intérieur est un processus qui perme
 t de rencontrer à l’intérieur de soi les archétypes du masculin p
 our se réconcilier, se reconnecter avec l’homme sage et laisser ém
 erger sa force et sa puissance intérieures.\n \n « Chaque femme p
 orte en elle une force naturelle riche de dons créateurs, de bons ins
 tincts et d’un savoir immémorial. Chaque femme a en elle la Femme S
 auvage. Mais la Femme Sauvage, comme la nature sauvage, est victime de
  la civilisation. La société, la culture la traquent, la capturent, 
 la musellent, afin qu’elle entre dans le moule réducteur des rôles
  qui lui sont assignés et ne puisse entendre la voix généreuse issu
 e de son âme profonde. »\n \n\n \n« Pourtant, si éloignés que
  nous soyons de la Femme Sauvage, notre nature instinctuelle, nous sen
 tons sa présence. Nous la rencontrons dans nos rêves, dans notre psy
 ché. Nous entendons son appel. C’est à nous d’y répondre, de re
 tourner vers elle dont nous avons, au fond de nous-mêmes, tant envie 
 et tant besoin. […] La femme qui récupère sa nature sauvage est co
 mme les loups. Elle court, danse, hurle avec eux. Elle est débordante
  de vitalité, de créativité, bien dans son corps, vibrante d’âme
 , donneuse de vie. Il ne tient qu’à nous d’être cette femme-là.
  »\nClarissa Pinkola Estès\n \nVenez répondre à l’appel de la 
 femme sauvage qui crie à l’intérieur de vous, et rentrez en chemin
 ement pour vous permettre de conscientiser la force intérieure qui vo
 us habite. C’est cette force intérieure qui vous aide à trouver le
  bon endroit pour panser vos plaies, et redynamiser votre énergie afi
 n de rebondir.\nLa suite sur https://gaianata.blog4ever.com/le-reveil-
 de-la-femme-sauvage-samedi-26-mai-2018\n Gaianata\n\nPour plus d'info
 rmation, aller sur https://epanews.fr/events/le-r-veil-de-la-femme-sau
 vage-samedi-26-mai-2018
DTSTART;TZID=Europe/Paris:20180526T100000
DTEND;TZID=Europe/Paris:20180526T180000
CATEGORIES:91
LOCATION:cabinet
WEBSITE:
URL:
CONTACT:06 75 61 68 86
ORGANIZER;CN=gaianata:https://epanews.fr/profile/pachagaia
ATTACH;FMTTYPE="image/jpeg":http://storage.ning.com/topology/rest/1.0/
 file/get/1663723247?profile=original
ATTENDEE;ROLE=REQ-PARTICIPANT;PARTSTAT=ACCEPTED;RSVP=TRUE;CN=gaianata:
 https://epanews.fr/profile/pachagaia
END:VEVENT
END:VCALENDAR
