BEGIN:VCALENDAR
PRODID:NingEventWidget-v1
VERSION:2.0
METHOD:PUBLISH
BEGIN:VTIMEZONE
TZID:Europe/Paris
X-LIC-LOCATION:Europe/Paris
BEGIN:DAYLIGHT
TZOFFSETFROM:+0100
TZOFFSETTO:+0200
TZNAME:CEST
DTSTART:19700329T020000
RRULE:FREQ=YEARLY;BYMONTH=3;BYDAY=-1SU
END:DAYLIGHT
BEGIN:STANDARD
TZOFFSETFROM:+0200
TZOFFSETTO:+0100
TZNAME:CET
DTSTART:19701025T030000
RRULE:FREQ=YEARLY;BYMONTH=10;BYDAY=-1SU
END:STANDARD
END:VTIMEZONE
BEGIN:VEVENT
UID:2485226:Event:2922143
DTSTAMP:20260420T193408Z
SUMMARY:Le référentiel de naissance : un outil de gestion de conflit
DESCRIPTION:Venez relever votre défi\net vous connecter à vos ressou
 rces\nLe Référentiel un Miroir de soi\nConférence Aix-en-Provence
 \n18 Janvier 2018 19 Hr\nHotel Grill Campanile Jas de Bouffan\nUne a
 venture à faire !\n\nPour plus d'information, aller sur https://epane
 ws.fr/events/le-r-f-rentiel-de-naissance-un-outil-de-gestion-de-confli
 t
DTSTART;TZID=Europe/Paris:20180118T190000
DTEND;TZID=Europe/Paris:20180118T210000
CATEGORIES:13
LOCATION:Aix en Provence
WEBSITE:https://www.google.fr/maps/place/H%C3%B4tel+Restaurant+Campani
 le+Aix+En+Provence+Ouest/@43.5212753,5.4155312,17z/data=!3m1!4b1!4m5!3
 m4!1s0x12c98d69a5e3d185:0x3bb4a571fe51e609!8m2!3d43.5212753!4d5.417719
 9?hl=fr
URL:https://www.google.fr/maps/place/H%C3%B4tel+Restaurant+Campanile+A
 ix+En+Provence+Ouest/@43.5212753,5.4155312,17z/data=!3m1!4b1!4m5!3m4!1
 s0x12c98d69a5e3d185:0x3bb4a571fe51e609!8m2!3d43.5212753!4d5.4177199?hl
 =fr
CONTACT:0687897609
ORGANIZER;CN="Jean Marc":https://epanews.fr/profile/JeanMarc110
ATTACH;FMTTYPE="image/jpeg":http://storage.ning.com/topology/rest/1.0/
 file/get/1663711998?profile=original
ATTENDEE;ROLE=REQ-PARTICIPANT;PARTSTAT=ACCEPTED;RSVP=TRUE;CN="Jean Mar
 c":https://epanews.fr/profile/JeanMarc110
END:VEVENT
END:VCALENDAR
