BEGIN:VCALENDAR
PRODID:NingEventWidget-v1
VERSION:2.0
METHOD:PUBLISH
BEGIN:VTIMEZONE
TZID:Europe/Paris
X-LIC-LOCATION:Europe/Paris
BEGIN:DAYLIGHT
TZOFFSETFROM:+0100
TZOFFSETTO:+0200
TZNAME:CEST
DTSTART:19700329T020000
RRULE:FREQ=YEARLY;BYMONTH=3;BYDAY=-1SU
END:DAYLIGHT
BEGIN:STANDARD
TZOFFSETFROM:+0200
TZOFFSETTO:+0100
TZNAME:CET
DTSTART:19701025T030000
RRULE:FREQ=YEARLY;BYMONTH=10;BYDAY=-1SU
END:STANDARD
END:VTIMEZONE
BEGIN:VEVENT
UID:2485226:Event:321672
DTSTAMP:20260420T113105Z
SUMMARY:\"Le pouvoir guérisseur devenir maître de sa santé\" avec L
 uc BODIN
DESCRIPTION:Au festival des Nouveaux Mondes 2011\nA Cassis du 6 au 14 
 juillet\n\nMardi 12 juillet:\n20h CONFERENCE DEBAT « Le pouvoir gué
 risseur, devenir maître de sa santé » avec les soins énergétique
 s. Une nouvelle approche de la médecine qui bouscule les idées reçu
 es avec LUC BODIN diplômé en Cancérologie clinique et spécialisé 
 en Médecines douces.  Auteur et conseiller scientifique. 15€/12€
  adhérent ou famille.\n\nPour plus d'information, aller sur https://e
 panews.fr/events/le-pouvoir-guerisseur-devenir
DTSTART;TZID=Europe/Paris:20110712T200000
DTEND;TZID=Europe/Paris:20110712T220000
CATEGORIES:tous
LOCATION:CASSIS 13260
WEBSITE:http://www.associationlesnouveauxmondes.com
URL:http://www.associationlesnouveauxmondes.com
CONTACT:C Culturel 04 42 01 77 73/asso 06 14 65 04 48
ORGANIZER;CN="Association Les Nouveaux Mondes":https://epanews.fr/prof
 ile/AssociationLesNouveauxMondes
ATTACH;FMTTYPE="image/jpeg":http://storage.ning.com/topology/rest/1.0/
 file/get/1662423093?profile=original
ATTENDEE;ROLE=REQ-PARTICIPANT;PARTSTAT=ACCEPTED;RSVP=TRUE;CN="Associat
 ion Les Nouveaux Mondes":https://epanews.fr/profile/AssociationLesNouv
 eauxMondes
END:VEVENT
END:VCALENDAR
