BEGIN:VCALENDAR
PRODID:NingEventWidget-v1
VERSION:2.0
METHOD:PUBLISH
BEGIN:VTIMEZONE
TZID:Europe/Paris
X-LIC-LOCATION:Europe/Paris
BEGIN:DAYLIGHT
TZOFFSETFROM:+0100
TZOFFSETTO:+0200
TZNAME:CEST
DTSTART:19700329T020000
RRULE:FREQ=YEARLY;BYMONTH=3;BYDAY=-1SU
END:DAYLIGHT
BEGIN:STANDARD
TZOFFSETFROM:+0200
TZOFFSETTO:+0100
TZNAME:CET
DTSTART:19701025T030000
RRULE:FREQ=YEARLY;BYMONTH=10;BYDAY=-1SU
END:STANDARD
END:VTIMEZONE
BEGIN:VEVENT
UID:2485226:Event:943812
DTSTAMP:20260419T215442Z
SUMMARY:Le Pouvoir du Son: 1er atelier mensuel
DESCRIPTION:  Le but de ces ateliers est de découvrir le pouvoir des 
 fréquences sonores alliées à la puissance de l’Intention. Effecti
 vement, la thérapie sonique est en pleine expansion à l’heure actu
 elle sous de multiples aspects, tous aussi riches les uns que les autr
 es : De l’accompagnement psychique à la programmation cellulaire, e
 n passant par le nettoyage des mémoires et des corps physiques et sub
 tils.Le son nous permet dans tous les cas de nous soigner et de nous r
 econnecter à la Matrice universelle et à notre vé rité intérieure
 .  Pour ce premier atelier, nous travaillerons sur trois aspects de la
  thérapie sonique :  - La méditation accompagnée en musique - Le ne
 ttoyage des mémoires cristallisées dans les corps subtils avec le ch
 ant et le tambour. - Le ré-équilibrage des chakras principaux par le
  chant des fréquences harmonisées.   Ce travail sera précédé par 
 une phase d’explication du programme, de l’importance de l'intenti
 on et de la conscience de l’impact des fréquences dans lesquelles n
 ous choisissions ou non, de baigner.   Tarif : 30€/ pers/3h  Rappel 
 : les ateliers mensuels suivent une évolution mais sont indépendants
 , vous pouvez donc librement participer à un seul atelier ou venir ch
 aque mois.  A bientôt peut-être...\n\n\nPour plus d'information, all
 er sur https://epanews.fr/events/le-pouvoir-du-son-1er-atelier-mensuel
 -1
DTSTART;TZID=Europe/Paris:20121013T143000
DTEND;TZID=Europe/Paris:20121013T173000
CATEGORIES:44
LOCATION:centre de ressourcement Des Gestes Pour Soi
WEBSITE:http://www.des-gestes-pour-soi.com
URL:http://www.des-gestes-pour-soi.com
CONTACT:0688475477
ORGANIZER;CN="chacun son rythme-julien fihey":https://epanews.fr/profi
 le/chacunsonrythmejulienfihey
ATTACH;FMTTYPE="image/jpeg":http://storage.ning.com/topology/rest/1.0/
 file/get/1662661718?profile=original
ATTENDEE;ROLE=REQ-PARTICIPANT;PARTSTAT=ACCEPTED;RSVP=TRUE;CN="chacun s
 on rythme-julien fihey":https://epanews.fr/profile/chacunsonrythmejuli
 enfihey
END:VEVENT
END:VCALENDAR
