BEGIN:VCALENDAR
PRODID:NingEventWidget-v1
VERSION:2.0
METHOD:PUBLISH
BEGIN:VTIMEZONE
TZID:Europe/Paris
X-LIC-LOCATION:Europe/Paris
BEGIN:DAYLIGHT
TZOFFSETFROM:+0100
TZOFFSETTO:+0200
TZNAME:CEST
DTSTART:19700329T020000
RRULE:FREQ=YEARLY;BYMONTH=3;BYDAY=-1SU
END:DAYLIGHT
BEGIN:STANDARD
TZOFFSETFROM:+0200
TZOFFSETTO:+0100
TZNAME:CET
DTSTART:19701025T030000
RRULE:FREQ=YEARLY;BYMONTH=10;BYDAY=-1SU
END:STANDARD
END:VTIMEZONE
BEGIN:VEVENT
UID:2485226:Event:423798
DTSTAMP:20260422T234442Z
SUMMARY:le pouvoir du moment prÃ©sent
DESCRIPTION:Grenoble : 15 octobre 2011\nDe 10H Ã  18H\nÂ \nJournÃ©e an
 imÃ©e par Michel Ogier, PrÃ©sident de la FÃ©dÃ©ration Nouvelle Terre e
 t animateur dâ€™ateliers sur le Pouvoir du Moment PrÃ©sent et la Commu
 nication Consciente Ã  lâ€™Institut WanXiang.\nÂ \nÂ \nSi le message d
 'Echart Tolle est clair et accessible, il est parfois difficile de le 
 mettre en pratique. Rester connectÃ© au moment prÃ©sent, garder sa con
 science Ã©veillÃ©e Ã  chaque instant n'est pas une chose aisÃ©e. CrÃ©e
 r un espace d'apprentissage et d'approfondissement des messages d'Eckh
 art Tolle, tel est lÂ´un des objectifs de ces ateliers divisÃ©s en deu
 x parties.\nÂ \nÂ \nLÂ´ atelier silence\nÂ \nDÃ©roulement:\nâ€¢ Une mÃ
 ©ditation silencieuse de 10 Ã  20 min\nâ€¢ Visualisation d'un support 
 audiovisuel durant 1h\nâ€¢ Une mÃ©ditation silencieuse de 10 Ã  20 min
 \nÂ \nSelon les recommandations d'Eckhart Tolle, il n'y a ni discussio
 n ni commentaire, seulement un travail intÃ©rieur intime pour ne pas f
 aire intervenir le mental, l'Ã©go ou la tentation du pouvoir par qui q
 ue ce soit ... Juste l'Ã©nergie d'un groupe rÃ©uni dans une mÃªme inte
 ntion, un mÃªme temps et en un mÃªme lieu.\nÂ \nÂ \nLÂ´ atelier pratiq
 ue\nÂ \nCes ateliers sont fondÃ©s sur de courts moments de mÃ©ditation
  pour dÃ©velopper l'Ã©veil de la conscience de soi, le sens de l'Ã©cou
 te et l'attention perceptive corporelle. Cette pratique vise Ã  faire 
 taire quelques minutes la pensÃ©e ordinaire dans le but d'avoir une co
 nscience de soi plus profonde. Elle vise le relÃ¢chement des conflits 
 ou malaises propres Ã  l'homme contemporain.\nPar la pratique de ces e
 xercices, la finalitÃ© est de se libÃ©rer de notre identification Ã  n
 otre ego, conditionnÃ© par le mental, et de se relier Ã  notre vraie n
 atureÂ : notre ÃŠtre.\nÂ \nAtelier-Silence 10h-12h - 10â‚¬\nAtelier Pr
 atique 14h-18h - 50â‚¬\nJournÃ©e complÃ¨te - 55â‚¬\nÂ \nInscription ob
 ligatoire par email : association.nouvelleterre@gmail.comÂ \nUn acompt
 e de 50% est demandÃ© pour toute inscription Ã  l'atelier pratique ou 
 la journÃ©e complÃ¨te. ChÃ¨que Ã  libeller Ã  l'ordre de \"Nouvelle Te
 rre\", puis Ã  envoyer Ã  Nouvelle terre - 5 av. Victor Hugo - 26100 R
 omans sur IsÃ¨re.\nÂ \nÂ \nÂ \nLa FÃ©dÃ©ration Nouvelle Terre est une 
 association de partage, rencontre et dÂ´Ã©change sur le thÃ¨me du pouv
 oir du moment prÃ©sent, selon lÂ´enseignement dÂ´Eckhart Tolle.\nQue v
 ous connaissiez lÂ´Å“uvre dÂ´Eckhart, ou que vous soyez dans une dÃ©ma
 rche de croissance personnelle intÃ©rieure, nous vous invitons Ã  veni
 r nous rejoindreÂ et de vous inscrire gratuitementÂ sur notre annuaire
  national. Nouvelle TerreÂ organise rÃ©guliÃ¨rement des confÃ©rences e
 t des ateliers surÂ  Â«Â La pratique du pouvoir du moment prÃ©sentÂ Â»
 Â dans toute la France.\nÂ \nNouvelle Terre se veut Ãªtre le fÃ©dÃ©rat
 eur deÂ toutes les personnes francophones qui suivent cette voie en vu
 e de faire venir en France Eckhart Tolle pour une rencontre unique lor
 s de son prochain cycle de confÃ©rences en Europe.\nÂ \nN'hÃ©sitez pas
  Ã Â nous rejoindreÂ et de faire partie des amis d'Eckhart en France !
 \nÂ \n\nPour plus d'information, aller sur https://epanews.fr/events/l
 e-pouvoir-du-moment-pr-sent-1
DTSTART;TZID=Europe/Paris:20111015T100000
DTEND;TZID=Europe/Paris:20111015T180000
CATEGORIES:38
LOCATION:Grenoble
WEBSITE:
URL:
CONTACT:09 777 58 733
ORGANIZER;CN="association.nouvelleterre":https://epanews.fr/profile/as
 sociationnouvelleterre
ATTACH;FMTTYPE="image/jpeg":http://storage.ning.com/topology/rest/1.0/
 file/get/1662438610?profile=original
ATTENDEE;ROLE=REQ-PARTICIPANT;PARTSTAT=ACCEPTED;RSVP=TRUE;CN="associat
 ion.nouvelleterre":https://epanews.fr/profile/associationnouvelleterre
ATTENDEE;ROLE=REQ-PARTICIPANT;PARTSTAT=TENTATIVE;RSVP=TRUE;CN=Naturova
 l:https://epanews.fr/profile/Naturoval
END:VEVENT
END:VCALENDAR
