BEGIN:VCALENDAR
PRODID:NingEventWidget-v1
VERSION:2.0
METHOD:PUBLISH
BEGIN:VTIMEZONE
TZID:Europe/Paris
X-LIC-LOCATION:Europe/Paris
BEGIN:DAYLIGHT
TZOFFSETFROM:+0100
TZOFFSETTO:+0200
TZNAME:CEST
DTSTART:19700329T020000
RRULE:FREQ=YEARLY;BYMONTH=3;BYDAY=-1SU
END:DAYLIGHT
BEGIN:STANDARD
TZOFFSETFROM:+0200
TZOFFSETTO:+0100
TZNAME:CET
DTSTART:19701025T030000
RRULE:FREQ=YEARLY;BYMONTH=10;BYDAY=-1SU
END:STANDARD
END:VTIMEZONE
BEGIN:VEVENT
UID:2485226:Event:1817113
DTSTAMP:20260421T084338Z
SUMMARY:Conférence : Le pouvoir de la pensée et le coeur
DESCRIPTION:Par Madeleine Badach et François Déroulède\n\nIl est su
 rprenant que l'on se sente impuissant alors que notre esprit contient 
 cette impressionnante force qui fut à l'origine de l'univers. Le cœu
 r est beaucoup plus que le simple muscle cardiaque. C'est un monde én
 ergétique qui orchestre notre vie, physique, émotionnelle et spiritu
 elle, grâce au pouvoir de la pensée.\nParticipation : 3 euros\n\n\n\
 nPour plus d'information, aller sur https://epanews.fr/events/le-pouvo
 ir-de-la-pens-e-et-le-coeur
DTSTART;TZID=Europe/Paris:20140329T170000
DTEND;TZID=Europe/Paris:20140329T183000
CATEGORIES:83
LOCATION:TOULON, quartier du Pont du Las
WEBSITE:https://maps.google.fr/maps?client=firefox-a&channel=sb&q=76+r
 ue+du+docteur+perrimond+83200+toulon&ie=UTF-8&hq=&hnear=0x12c91b22f9c9
 99e3:0x190b6c3e42391f5d,76+Rue+Docteur+Perrimond,+83200+Toulon&gl=fr&e
 i=YvIYU7H9JaeO7AbJhoHwCA&ved=0CC0Q8gEwAA
URL:https://maps.google.fr/maps?client=firefox-a&channel=sb&q=76+rue+d
 u+docteur+perrimond+83200+toulon&ie=UTF-8&hq=&hnear=0x12c91b22f9c999e3
 :0x190b6c3e42391f5d,76+Rue+Docteur+Perrimond,+83200+Toulon&gl=fr&ei=Yv
 IYU7H9JaeO7AbJhoHwCA&ved=0CC0Q8gEwAA
CONTACT:
ORGANIZER;CN=coeur8:https://epanews.fr/profile/coeur8
ATTACH;FMTTYPE="image/jpeg":
ATTENDEE;ROLE=REQ-PARTICIPANT;PARTSTAT=ACCEPTED;RSVP=TRUE;CN=coeur8:ht
 tps://epanews.fr/profile/coeur8
ATTENDEE;ROLE=REQ-PARTICIPANT;PARTSTAT=TENTATIVE;RSVP=TRUE;CN="THERAPY
  BIEN ETRE":https://epanews.fr/profile/cristalviolet
END:VEVENT
END:VCALENDAR
