BEGIN:VCALENDAR
PRODID:NingEventWidget-v1
VERSION:2.0
METHOD:PUBLISH
BEGIN:VTIMEZONE
TZID:Europe/Paris
X-LIC-LOCATION:Europe/Paris
BEGIN:DAYLIGHT
TZOFFSETFROM:+0100
TZOFFSETTO:+0200
TZNAME:CEST
DTSTART:19700329T020000
RRULE:FREQ=YEARLY;BYMONTH=3;BYDAY=-1SU
END:DAYLIGHT
BEGIN:STANDARD
TZOFFSETFROM:+0200
TZOFFSETTO:+0100
TZNAME:CET
DTSTART:19701025T030000
RRULE:FREQ=YEARLY;BYMONTH=10;BYDAY=-1SU
END:STANDARD
END:VTIMEZONE
BEGIN:VEVENT
UID:2485226:Event:871478
DTSTAMP:20260422T035021Z
SUMMARY:Le pouvoir de l'eau
DESCRIPTION:Une journée dans le Diois pour prendre conscience de l'ea
 u en nous et autour de nous\nCercle de parole chants sacrés channelin
 g et méditation\nUne célébration à l'eau au Rourebel\nChez Georges
  et Anna à Espenel entre Saillans et Die\nTel Anna 04 75 21 75 47\nPa
 rticipation 50 euros pour la journée\nAnimé par Kara-Alia 04 75 41 5
 8 75\nPrécisions sur le site la.source.stellaire.over-blog.com\n\nPou
 r plus d'information, aller sur https://epanews.fr/events/le-pouvoir-d
 e-l-eau
DTSTART;TZID=Europe/Paris:20120819T093000
DTEND;TZID=Europe/Paris:20120819T183000
CATEGORIES:26, 07, 38
LOCATION:Espenel (26)
WEBSITE:http://Rourebel.fr
URL:http://Rourebel.fr
CONTACT:04 75 21 75 47 ou 04 75 41 58 75
ORGANIZER;CN=Kara-Alia:https://epanews.fr/profile/LeFevreKara
ATTACH;FMTTYPE="image/jpeg":http://storage.ning.com/topology/rest/1.0/
 file/get/1662628624?profile=original
ATTENDEE;ROLE=REQ-PARTICIPANT;PARTSTAT=ACCEPTED;RSVP=TRUE;CN=Kara-Alia
 :https://epanews.fr/profile/LeFevreKara
END:VEVENT
END:VCALENDAR
