BEGIN:VCALENDAR
PRODID:NingEventWidget-v1
VERSION:2.0
METHOD:PUBLISH
BEGIN:VTIMEZONE
TZID:Europe/Paris
X-LIC-LOCATION:Europe/Paris
BEGIN:DAYLIGHT
TZOFFSETFROM:+0100
TZOFFSETTO:+0200
TZNAME:CEST
DTSTART:19700329T020000
RRULE:FREQ=YEARLY;BYMONTH=3;BYDAY=-1SU
END:DAYLIGHT
BEGIN:STANDARD
TZOFFSETFROM:+0200
TZOFFSETTO:+0100
TZNAME:CET
DTSTART:19701025T030000
RRULE:FREQ=YEARLY;BYMONTH=10;BYDAY=-1SU
END:STANDARD
END:VTIMEZONE
BEGIN:VEVENT
UID:2485226:Event:2635676
DTSTAMP:20260422T032605Z
SUMMARY:Le Pendule, votre Partenaire Mieux-Être
DESCRIPTION:Optimisez-vous la présence de votre pendule dans votre Vi
 e quotidienne ?\nJe vous propose un Atelier consacré à l'utilisatio
 n du Pendule pour la Lecture Energétique et le Soin Thérapeutique.\n
 Cliquez ici pour plus d'informations...Pendule%20en%20Th%C3%A9rapie.pd
 f\n\nPour plus d'information, aller sur https://epanews.fr/events/le-p
 endule-votre-partenaire-mieux-tre
DTSTART;TZID=Europe/Paris:20160507T140000
DTEND;TZID=Europe/Paris:20160507T180000
CATEGORIES:78
LOCATION:POISSY
WEBSITE:
URL:
CONTACT:
ORGANIZER;CN=ISAbELle:https://epanews.fr/profile/ISAbELle163
ATTACH;FMTTYPE="image/jpeg":http://storage.ning.com/topology/rest/1.0/
 file/get/1663561954?profile=original
ATTENDEE;ROLE=REQ-PARTICIPANT;PARTSTAT=ACCEPTED;RSVP=TRUE;CN=ISAbELle:
 https://epanews.fr/profile/ISAbELle163
END:VEVENT
END:VCALENDAR
