BEGIN:VCALENDAR
PRODID:NingEventWidget-v1
VERSION:2.0
METHOD:PUBLISH
BEGIN:VTIMEZONE
TZID:Europe/Paris
X-LIC-LOCATION:Europe/Paris
BEGIN:DAYLIGHT
TZOFFSETFROM:+0100
TZOFFSETTO:+0200
TZNAME:CEST
DTSTART:19700329T020000
RRULE:FREQ=YEARLY;BYMONTH=3;BYDAY=-1SU
END:DAYLIGHT
BEGIN:STANDARD
TZOFFSETFROM:+0200
TZOFFSETTO:+0100
TZNAME:CET
DTSTART:19701025T030000
RRULE:FREQ=YEARLY;BYMONTH=10;BYDAY=-1SU
END:STANDARD
END:VTIMEZONE
BEGIN:VEVENT
UID:2485226:Event:1877978
DTSTAMP:20260422T022936Z
SUMMARY:Le Péricarde, Gardien du Secret de notre Divinité, par MONTS
 ERRAT GASCON
DESCRIPTION:Montserrat Gascon a crée l’Ostéopathie bioénergétiqu
 e cellulaire (OBC) qui reprend les grands principes de l’ostéopathi
 e considérant le corps comme un ensemble cohérent. Le fruit de ses r
 echerches a été le lien essentiel entre le Péricarde (enveloppe du 
 cœur) et le système neuro-végétatif, au niveau du ganglion stellai
 re, pour la compréhension de notre fonctionnement émotionnel dans un
  premier temps et spirituel par la suite.\nPAF : 10 euros\n\nPour plus
  d'information, aller sur https://epanews.fr/events/le-p-ricarde-gardi
 en-du-secret-de-notre-divinit-par-montserrat
DTSTART;TZID=Europe/Paris:20140425T193000
DTEND;TZID=Europe/Paris:20140425T220000
CATEGORIES:69
LOCATION:Lyon 5e
WEBSITE:http://www.eklectic-librairie.com
URL:http://www.eklectic-librairie.com
CONTACT:04 78 42 48 21
ORGANIZER;CN="Librairie Cadence, Lyon":https://epanews.fr/profile/Libr
 airieCadenceLyon
ATTACH;FMTTYPE="image/jpeg":http://storage.ning.com/topology/rest/1.0/
 file/get/1663115609?profile=original
ATTENDEE;ROLE=REQ-PARTICIPANT;PARTSTAT=ACCEPTED;RSVP=TRUE;CN="Librairi
 e Cadence, Lyon":https://epanews.fr/profile/LibrairieCadenceLyon
END:VEVENT
END:VCALENDAR
