BEGIN:VCALENDAR
PRODID:NingEventWidget-v1
VERSION:2.0
METHOD:PUBLISH
BEGIN:VTIMEZONE
TZID:Europe/Paris
X-LIC-LOCATION:Europe/Paris
BEGIN:DAYLIGHT
TZOFFSETFROM:+0100
TZOFFSETTO:+0200
TZNAME:CEST
DTSTART:19700329T020000
RRULE:FREQ=YEARLY;BYMONTH=3;BYDAY=-1SU
END:DAYLIGHT
BEGIN:STANDARD
TZOFFSETFROM:+0200
TZOFFSETTO:+0100
TZNAME:CET
DTSTART:19701025T030000
RRULE:FREQ=YEARLY;BYMONTH=10;BYDAY=-1SU
END:STANDARD
END:VTIMEZONE
BEGIN:VEVENT
UID:2485226:Event:599146
DTSTAMP:20260423T154225Z
SUMMARY:Le Nouveau Paradis
DESCRIPTION:Si vous aimez danser en conscience, chanter pour flirter a
 vec la transe des mantras et mÃ©diter - ou vous relaxer - avec les Bol
 s chantants en Cristal et le Didgeridoo pour aller sÃ©duire cet amour 
 qui vibre au fond de nous et qui nous permet de faire monter notre vib
 ration vers les portes du 7Ã¨ ciel, alors ce nouveau Paradis est fait 
 pour vous. \n- Danse en conscience sur des rythmes ethniques trÃ¨s pro
 ches de la transe \n\n- Jeux et mouvements rythmiques avec le Tambour 
 chamanique\n\n- Chants vibratoires sous forme de Mantras qui nous perm
 ettront de dÃ©passer notre mental et de toucher notre Etre joyeux et p
 rofond \n\n- MÃ©ditation et relaxation avec les bols de cristal et Did
 geridoo pour ressentir cette verticalitÃ© qui nous aide Ã  toucher not
 re multidimenionnalitÃ© \n\n- Performances vocales de Leeloo et SwaÃ¯a
 m pour prÃ©senter notre nouvel album \"We are One\". \nen Ã©coute Ã  c
 ette adresse :\nhttp://www.swaiam-therapieparleson.com/creation-musica
 le-a3275393\n\n- Partages et Ã©changes autour de la tisane de l'amitiÃ
 ©.\n\n- Prix de l'atelier : 20 Euros - durÃ©e 3h\n\n\nPour plus d'info
 rmation, aller sur https://epanews.fr/events/le-nouveau-paradis
DTSTART;TZID=Europe/Paris:20111125T193000
DTEND;TZID=Europe/Paris:20111125T223000
CATEGORIES:75
LOCATION:Paris
WEBSITE:http://MÂ° Faidherbe-Chaligny
URL:http://MÂ° Faidherbe-Chaligny
CONTACT:06 11 58 82 45
ORGANIZER:SwaÃ¯am
ATTACH;FMTTYPE="image/jpeg":http://storage.ning.com/topology/rest/1.0/
 file/get/1662500517?profile=original
ATTENDEE;ROLE=REQ-PARTICIPANT;PARTSTAT=ACCEPTED;RSVP=TRUE;CN=Gordigian
 i:https://epanews.fr/profile/Gordigiani
END:VEVENT
END:VCALENDAR
