BEGIN:VCALENDAR
PRODID:NingEventWidget-v1
VERSION:2.0
METHOD:PUBLISH
BEGIN:VTIMEZONE
TZID:Europe/Paris
X-LIC-LOCATION:Europe/Paris
BEGIN:DAYLIGHT
TZOFFSETFROM:+0100
TZOFFSETTO:+0200
TZNAME:CEST
DTSTART:19700329T020000
RRULE:FREQ=YEARLY;BYMONTH=3;BYDAY=-1SU
END:DAYLIGHT
BEGIN:STANDARD
TZOFFSETFROM:+0200
TZOFFSETTO:+0100
TZNAME:CET
DTSTART:19701025T030000
RRULE:FREQ=YEARLY;BYMONTH=10;BYDAY=-1SU
END:STANDARD
END:VTIMEZONE
BEGIN:VEVENT
UID:2485226:Event:200299
DTSTAMP:20260425T233851Z
SUMMARY:Le monde des relations, un appel à la communion
DESCRIPTION:Journée-Thème avec Betty\nde 10h à 12h et de 14h à 16h
 30.\nLe monde des relations, un appel à la communion.\nUne nouvelle a
 pproche à expérimenter.\nQue ce soit la relation amicale, parentale,
  sociale ou amoureuse, les relations ne sont, la plupart du temps, qu'
 une communication verbale, gestuelle ou physique.\nL'image que vous av
 ez de vous communique avec l'image que vous avez de l'autre en face de
  vous.\nOu est la relation véritable ?\nLes thèmes abordés lors de 
 cette journée :\n- Le monde de l'illusion : le rêve, le corps, la fo
 rce du conditionnement, la pensée, les croyances.\n- L'observateur : 
 un guetteur vigilent et honnête ;  l'arnaque du petit \"je\".\n- Qu'
 es-ce que la communion ?\n- La différence entre l'élan et l'intuitio
 n.\n- Qu'es-ce que l'intimité dans les relations ?\nSite internet de 
 Betty : www.lagrandejoie.qc.ca\nParticipation à la journée : 35 euro
 s.\n\nPour plus d'information, aller sur https://epanews.fr/events/le-
 monde-des-relations-un
DTSTART;TZID=Europe/Paris:20110515T100000
DTEND;TZID=Europe/Paris:20110515T163000
CATEGORIES:34
LOCATION:Montpellier
WEBSITE:http://www.lagrandejoie.qc.ca…
URL:http://www.lagrandejoie.qc.ca…
CONTACT: 04 67 58 48 54 Marie-Noëlle mnwpsy@hotmail.fr ; 06 31 72 79 
 13 Vincent
ORGANIZER:Marie-Noëlle Willaime-Jolivald et Vincent Mainier
ATTACH;FMTTYPE="image/jpeg":http://storage.ning.com/topology/rest/1.0/
 file/get/1662383212?profile=original
ATTENDEE;ROLE=REQ-PARTICIPANT;PARTSTAT=ACCEPTED;RSVP=TRUE;CN=Prajna13:
 https://epanews.fr/profile/prajna13
END:VEVENT
END:VCALENDAR
