BEGIN:VCALENDAR
PRODID:NingEventWidget-v1
VERSION:2.0
METHOD:PUBLISH
BEGIN:VTIMEZONE
TZID:Europe/Paris
X-LIC-LOCATION:Europe/Paris
BEGIN:DAYLIGHT
TZOFFSETFROM:+0100
TZOFFSETTO:+0200
TZNAME:CEST
DTSTART:19700329T020000
RRULE:FREQ=YEARLY;BYMONTH=3;BYDAY=-1SU
END:DAYLIGHT
BEGIN:STANDARD
TZOFFSETFROM:+0200
TZOFFSETTO:+0100
TZNAME:CET
DTSTART:19701025T030000
RRULE:FREQ=YEARLY;BYMONTH=10;BYDAY=-1SU
END:STANDARD
END:VTIMEZONE
BEGIN:VEVENT
UID:2485226:Event:1398005
DTSTAMP:20260422T030731Z
SUMMARY:Cadeau de Maritzabel Claros-Ferrer : un Atelier \"Miroir du Bo
 nheur\" Ã  GAGNER !
DESCRIPTION:L'Association Syncronia offre en cadeau par tirage au sort
  parmi ceux qui auront cliquÃ© sur \"Je participerai\", uneÂ INVITATIO
 N Ã  l'ATELIER \"Miroir du bonheur\" d'une valeur de 125â‚¬, et une SÃ
 ‰ANCE PERSONNALISÃ‰E avec MCF d'une valeur de 80â‚¬, soit au total 205
 â‚¬ offerts ! Â (Tirage au sort: 21 juin Ã  15h.)\n____\nAu programme 
 :\n\nDÃ©couverte desÂ Lois de l'UniversÂ qui vous guideront vers la rÃ
 ©ussite et le succÃ¨s, dansÂ l'Amour et la LumiÃ¨re.\nBoÃ®te Ã  outils
  pratiqueÂ et personnalisÃ©e pour partir Ã  la recherche desÂ vraiesÂ 
 passions, Ã©claircir lesÂ rÃªvesÂ et dÃ©couvrir comment lesÂ actes quo
 tidiensÂ dessinent leÂ destin dansÂ l'harmonie universelle.\nÃ‰changes
  et partage d'expÃ©riences pour quitter le mode Â« automatique Â», dÃ©
 velopper sonÂ vÃ©ritable potentielÂ et vivre sa vieÂ enÂ pleine consci
 ence.\nAprÃ¨s les vacances, vous Ãªtes invitÃ©s Ã  retrouverÂ cetteÂ a
 mbianceÂ chaleureuse et sympathique,Â pour partager vos \"dÃ©couvertes
 \" et vos \"confirmations\" : chacun valide par lui-mÃªme dans sa prop
 re vie les bienfaits duÂ Miroir du Bonheur.\n\nÂ« NE CROYEZ RIEN,Â EXP
 Ã‰RIMENTEZ ET VÃ‰RIFIEZ TOUT DANS VOTRE PROPRE VIE. Â»\nInscription : 
 Â Â Ã€ PARTIR DU 11 JUIN 2013 :Â tarif spÃ©cial pour la participation 
 Ã  l'Atelier de 99â‚¬Â aux membres dâ€™Ã‰panews au lieu de 125â‚¬ (Att
 ention : places limitÃ©es)\n\n\n\nLes personnes souhaitant participer,
  quelque soit le rÃ©sultat du tirage au sort, peuvent sâ€™inscrire par
  email surÂ syncronia@syncroniaonline.comÂ ou auÂ 06.95.34.34.62\nAmou
 r et gratitude,\nMaritzabel Claros-Ferrer\n\n\n\nFacilitatrice Atelier
 Â Miroir du Bonheur Pour mieux connaitre Maritzabel et tous les dÃ©tai
 ls de l'Atelier:Â http://lemiroirdubonheur.wordpress.comÂ  \nPour suiv
 re Maritzabel sur facebook:\nwww.facebook.com/MaritzabelClarosFerrer\n
 Pour voir tous les videos de Maritzabel: abonnez vous Ã  sa chaine you
 tube:Â http://www.youtube.com/channel/UCA7F1AbX5HQ7hZlpe7U0Bjw\n\nPour
  plus d'information, aller sur https://epanews.fr/events/le-miroir-du-
 bonheur
DTSTART;TZID=Europe/Paris:20130629T090000
DTEND;TZID=Europe/Paris:20130630T213000
CATEGORIES:69
LOCATION:Ecully
WEBSITE:http://lemiroirdubonheur.wordpress.com/latelier/
URL:http://lemiroirdubonheur.wordpress.com/latelier/
CONTACT:0695343462
ORGANIZER;CN="Maritzabel Claros-Ferrer":https://epanews.fr/profile/Mar
 itzabelClarosJimenez
ATTACH;FMTTYPE="image/jpeg":http://storage.ning.com/topology/rest/1.0/
 file/get/1662852300?profile=original
ATTENDEE;ROLE=REQ-PARTICIPANT;PARTSTAT=ACCEPTED;RSVP=TRUE;CN=Esmeralda
 :https://epanews.fr/profile/Esmeralda
ATTENDEE;ROLE=REQ-PARTICIPANT;PARTSTAT=ACCEPTED;RSVP=TRUE;CN=isa:https
 ://epanews.fr/profile/isa230
ATTENDEE;ROLE=REQ-PARTICIPANT;PARTSTAT=ACCEPTED;RSVP=TRUE;CN=Ecriplur:
 https://epanews.fr/profile/Ecriplur
ATTENDEE;ROLE=REQ-PARTICIPANT;PARTSTAT=ACCEPTED;RSVP=TRUE;CN=didou31:h
 ttps://epanews.fr/profile/didou31
ATTENDEE;ROLE=REQ-PARTICIPANT;PARTSTAT=ACCEPTED;RSVP=TRUE;CN="Maritzab
 el Claros-Ferrer":https://epanews.fr/profile/MaritzabelClarosJimenez
ATTENDEE;ROLE=REQ-PARTICIPANT;PARTSTAT=TENTATIVE;RSVP=TRUE;CN=timotei:
 https://epanews.fr/profile/timotei
END:VEVENT
END:VCALENDAR
