BEGIN:VCALENDAR
PRODID:NingEventWidget-v1
VERSION:2.0
METHOD:PUBLISH
BEGIN:VTIMEZONE
TZID:Europe/Paris
X-LIC-LOCATION:Europe/Paris
BEGIN:DAYLIGHT
TZOFFSETFROM:+0100
TZOFFSETTO:+0200
TZNAME:CEST
DTSTART:19700329T020000
RRULE:FREQ=YEARLY;BYMONTH=3;BYDAY=-1SU
END:DAYLIGHT
BEGIN:STANDARD
TZOFFSETFROM:+0200
TZOFFSETTO:+0100
TZNAME:CET
DTSTART:19701025T030000
RRULE:FREQ=YEARLY;BYMONTH=10;BYDAY=-1SU
END:STANDARD
END:VTIMEZONE
BEGIN:VEVENT
UID:2485226:Event:152812
DTSTAMP:20260420T231748Z
SUMMARY:Le language des maux
DESCRIPTION:le Dc Sigand Ros nous expliquera ce que nos maux veulent d
 ire\n\nContactez moi pour avoir plus d'informations\n\npmaz88@gmail.co
 m\n\nPhilippe\n\nPour plus d'information, aller sur https://epanews.fr
 /events/le-language-des-maux
DTSTART;TZID=Europe/Paris:20101118T190000
DTEND;TZID=Europe/Paris:20101118T220000
CATEGORIES:75
LOCATION:Paris 15e
WEBSITE:
URL:
CONTACT:0607688979
ORGANIZER;CN=Philipp:https://epanews.fr/profile/Philippemezieres
ATTACH;FMTTYPE="image/jpeg":
ATTENDEE;ROLE=REQ-PARTICIPANT;PARTSTAT=ACCEPTED;RSVP=TRUE;CN=Philipp:h
 ttps://epanews.fr/profile/Philippemezieres
END:VEVENT
END:VCALENDAR
