BEGIN:VCALENDAR
PRODID:NingEventWidget-v1
VERSION:2.0
METHOD:PUBLISH
BEGIN:VTIMEZONE
TZID:Europe/Paris
X-LIC-LOCATION:Europe/Paris
BEGIN:DAYLIGHT
TZOFFSETFROM:+0100
TZOFFSETTO:+0200
TZNAME:CEST
DTSTART:19700329T020000
RRULE:FREQ=YEARLY;BYMONTH=3;BYDAY=-1SU
END:DAYLIGHT
BEGIN:STANDARD
TZOFFSETFROM:+0200
TZOFFSETTO:+0100
TZNAME:CET
DTSTART:19701025T030000
RRULE:FREQ=YEARLY;BYMONTH=10;BYDAY=-1SU
END:STANDARD
END:VTIMEZONE
BEGIN:VEVENT
UID:2485226:Event:2007423
DTSTAMP:20260422T213911Z
SUMMARY:Le Grand Pardon du Féminin Sacré au Masculin divin - Sémina
 ire 2 jours résidentiel
DESCRIPTION:6_le_grand_pardon_feminin_sacre_au_masculin_divin.doc\nBon
 jour,\nPour toutes questions, je vous remercie de passer par le mail. 
 planetetantra@gmail.com\nMerci bien,\n\n\nPour plus d'information, all
 er sur https://epanews.fr/events/le-grand-pardon-du-f-minin-sacr-au-ma
 sculin-divin-1
DTSTART;TZID=Europe/Paris:20150612T170000
DTEND;TZID=Europe/Paris:20150614T160000
CATEGORIES:26
LOCATION:Drôme à 2h30 de Paris en TGV
WEBSITE:http://www.espace-etoiles.fr
URL:http://www.espace-etoiles.fr
CONTACT:0033 (0)7 81 22 32 62
ORGANIZER;CN=Sarah:https://epanews.fr/profile/ladeesseduyogatantra
ATTACH;FMTTYPE="image/jpeg":http://storage.ning.com/topology/rest/1.0/
 file/get/1663192000?profile=original
ATTENDEE;ROLE=REQ-PARTICIPANT;PARTSTAT=ACCEPTED;RSVP=TRUE;CN=Sarah:htt
 ps://epanews.fr/profile/ladeesseduyogatantra
END:VEVENT
END:VCALENDAR
