BEGIN:VCALENDAR
PRODID:NingEventWidget-v1
VERSION:2.0
METHOD:PUBLISH
BEGIN:VTIMEZONE
TZID:Europe/Paris
X-LIC-LOCATION:Europe/Paris
BEGIN:DAYLIGHT
TZOFFSETFROM:+0100
TZOFFSETTO:+0200
TZNAME:CEST
DTSTART:19700329T020000
RRULE:FREQ=YEARLY;BYMONTH=3;BYDAY=-1SU
END:DAYLIGHT
BEGIN:STANDARD
TZOFFSETFROM:+0200
TZOFFSETTO:+0100
TZNAME:CET
DTSTART:19701025T030000
RRULE:FREQ=YEARLY;BYMONTH=10;BYDAY=-1SU
END:STANDARD
END:VTIMEZONE
BEGIN:VEVENT
UID:2485226:Event:2089201
DTSTAMP:20260425T204105Z
SUMMARY:Le corps, la conscience et la capacitÃ© Ã  recevoir: stages le
 s 12 et 14/12 2014 Ã  HyÃ¨res
DESCRIPTION:Annabelle Perceval, coach et thÃ©rapeute, vient animer deu
 x stages de Processus corporels d'Access\nvendredi 12 et dimanche 14 d
 Ã©cembre 2014 Ã  HyÃ¨res.\n\nAucun prÃ© requis !!!\n\nVoici le tÃ©moig
 nage de participants:\n\"Sur le retour du stage Processus Corporels fa
 cilitÃ© parÂ Annabelle Perceval, je me suis sentie respirer plus ample
 ment, libÃ©rÃ©e de toute tension, habitÃ©e par un grand calme, ainsi q
 u'une profonde dÃ©termination. Les prises de conscience ont Ã©tÃ© fulg
 urantes. Depuis, les idÃ©es pour changer ce qui ne me convient plus da
 ns ma vie et concrÃ©tiser mes aspirations affluent... et je passe Ã  l
 'action ! \"Â \nAnne-Marie\nÂ \n\"Je n'avais pas idÃ©e de la distance 
 que j'avais mise entre mon corps et moi.....Retrouver cette connexion 
 avec mon corps, apprendre Ã  recevoir les processus, tellement bienfai
 sants et doux, entendre Annabelle dÃ©gager l'Ã©nergie de nos limitatio
 ns, tout cela a Ã©tÃ© tellement nouveau et intense pour moi ! Merci po
 ur ce cadeau que je me suis fait, je me sens tellement plus MOI !\"Â F
 ranÃ§oise\nÂ \n\" Mon corps a Ã©tÃ© un problÃ¨me toute ma vie: pour mo
 i et pour les autres. En surpoids et de grande taille, j'ai toujours e
 ssayÃ© de me rendre invisible et j'ai beaucoup maltraitÃ© mon corps po
 ur cela. Pendant les stages Processus corporel, et j'en ai fait 3, j'a
 i enfin rendu sa place Ã  mon corps, sans honte et sans jugement. C'Ã©
 tait pourtant si simple ! ....\"Â Jean-Luc\nÂ \nQuelle aisance et quel
 le contribution ces tÃ©moignages, et ces stages peuvent-ils Ãªtre pour
  vous, votre corps et votre vie ?\nÂ \nPour recevoir le programme des 
 deux joursÂ envoyez un mail Ã  :\ndominique.rittimann@gmail.com\nPour 
 rÃ©server votre placeÂ envoyez un mail Ã  :\nannabelle.perceval@gmail.
 comÂ \navant le 15 novembre.\nAtelier de 9h30 Ã  17h30.\nTarif : 150 â
 ‚¬/j\n\nDominique Rittimann\n0698566297\n\n\n\n\n\n\n\nPour plus d'inf
 ormation, aller sur https://epanews.fr/events/le-corps-la-conscience-e
 t-la-capacit-recevoir-stages-les-12-et-14
DTSTART;TZID=Europe/Paris:20141212T000000
DTEND;TZID=Europe/Paris:20141214T235900
CATEGORIES:83, 06, 13, 84, 30
LOCATION:HyÃ¨res
WEBSITE:
URL:
CONTACT:0698566297
ORGANIZER;CN="Dominique Rittimann":https://epanews.fr/profile/Dominiqu
 eR
ATTACH;FMTTYPE="image/jpeg":http://storage.ning.com/topology/rest/1.0/
 file/get/1663236145?profile=original
ATTENDEE;ROLE=REQ-PARTICIPANT;PARTSTAT=ACCEPTED;RSVP=TRUE;CN="THERAPY 
 BIEN ETRE":https://epanews.fr/profile/cristalviolet
ATTENDEE;ROLE=REQ-PARTICIPANT;PARTSTAT=ACCEPTED;RSVP=TRUE;CN=Nabila:ht
 tps://epanews.fr/profile/Nabila
ATTENDEE;ROLE=REQ-PARTICIPANT;PARTSTAT=ACCEPTED;RSVP=TRUE;CN="Dominiqu
 e Rittimann":https://epanews.fr/profile/DominiqueR
ATTENDEE;ROLE=REQ-PARTICIPANT;PARTSTAT=TENTATIVE;RSVP=TRUE;CN=Sandrine
 :https://epanews.fr/profile/Sandy57
END:VEVENT
END:VCALENDAR
