BEGIN:VCALENDAR
PRODID:NingEventWidget-v1
VERSION:2.0
METHOD:PUBLISH
BEGIN:VTIMEZONE
TZID:Europe/Paris
X-LIC-LOCATION:Europe/Paris
BEGIN:DAYLIGHT
TZOFFSETFROM:+0100
TZOFFSETTO:+0200
TZNAME:CEST
DTSTART:19700329T020000
RRULE:FREQ=YEARLY;BYMONTH=3;BYDAY=-1SU
END:DAYLIGHT
BEGIN:STANDARD
TZOFFSETFROM:+0200
TZOFFSETTO:+0100
TZNAME:CET
DTSTART:19701025T030000
RRULE:FREQ=YEARLY;BYMONTH=10;BYDAY=-1SU
END:STANDARD
END:VTIMEZONE
BEGIN:VEVENT
UID:2485226:Event:2153560
DTSTAMP:20260422T065313Z
SUMMARY:Le corps, la conscience et la capacité à recevoir: 23 janvie
 r à Hyères
DESCRIPTION:Les Processus Corporels d’Access© avec Marlène Ricci\n
 Cette réalité, les points de vue à partir desquels vous fonctionnez
 , vos conclusions ont un effet sur votre corps. Vos cellules ne foncti
 onnent plus comme elles devraient, votre corps perd son aisance et vie
 illit ou tombe malade. Ces processus corporels font appels à des éne
 rgies spécifiques pour permettre à vos cellules de retrouver la form
 e optimale de fonctionnement pour elles. Que ce soit pour activer votr
 e système immunitaire, aider votre corps à maigrir, retrouver une me
 illeure vue, avoir l’air plus jeune, il y a plus d’une cinquantain
 e de processus généraux ou spécifiques pour permettre à votre corp
 s de fonctionner au plus près de ce qu’il est censé être réellem
 ent. Êtes-vous prêts à faire de votre corps votre meilleur ami ?\nR
 egardez cette vidéo...\nhttps://www.youtube.com/watch?v=Ikj4Dyw5M2o\n
 Plus d'infos sur le lien ci dessous :\nhttp://www.accessconsciousness.
 com/class_details.asp?cid=52015\n\nPour plus d'information, aller sur 
 https://epanews.fr/events/le-corps-la-conscience-et-la-capacit-recevoi
 r-23-janvier-hy-res
DTSTART;TZID=Europe/Paris:20150123T093000
DTEND;TZID=Europe/Paris:20150123T180000
CATEGORIES:tous
LOCATION:Hyères
WEBSITE:
URL:
CONTACT:0698566297
ORGANIZER;CN="Dominique Rittimann":https://epanews.fr/profile/Dominiqu
 eR
ATTACH;FMTTYPE="image/jpeg":http://storage.ning.com/topology/rest/1.0/
 file/get/1663278436?profile=original
ATTENDEE;ROLE=REQ-PARTICIPANT;PARTSTAT=ACCEPTED;RSVP=TRUE;CN="Dominiqu
 e Rittimann":https://epanews.fr/profile/DominiqueR
ATTENDEE;ROLE=REQ-PARTICIPANT;PARTSTAT=TENTATIVE;RSVP=TRUE;CN=fito:htt
 ps://epanews.fr/profile/fito
END:VEVENT
END:VCALENDAR
