BEGIN:VCALENDAR
PRODID:NingEventWidget-v1
VERSION:2.0
METHOD:PUBLISH
BEGIN:VTIMEZONE
TZID:Europe/Paris
X-LIC-LOCATION:Europe/Paris
BEGIN:DAYLIGHT
TZOFFSETFROM:+0100
TZOFFSETTO:+0200
TZNAME:CEST
DTSTART:19700329T020000
RRULE:FREQ=YEARLY;BYMONTH=3;BYDAY=-1SU
END:DAYLIGHT
BEGIN:STANDARD
TZOFFSETFROM:+0200
TZOFFSETTO:+0100
TZNAME:CET
DTSTART:19701025T030000
RRULE:FREQ=YEARLY;BYMONTH=10;BYDAY=-1SU
END:STANDARD
END:VTIMEZONE
BEGIN:VEVENT
UID:2485226:Event:364507
DTSTAMP:20260423T040719Z
SUMMARY:Le coeur d'Uruguay
DESCRIPTION:Venez dÃ©couvrir Le CÅ“ur d'Agate d'Uruguay\nÃ  cÃ´tÃ© de 
 Cavaillon auÂ 130 Impasse teste nÃ¨gre 84300 Les Taillades .\nLe Jeudi
  30 JUIN 2011 aprÃ¨s midi Ã  15 H 00 et Ã  19 H00\nAmicalement,\nJoÃ«l
  06 70 64 72 59\nCette gÃ©ode en agate, de 130 millionsdâ€™annÃ©es, en
  forme de cÅ“ur, contenant en son intÃ©rieur des symboles ayant faitlâ
 €™objet dâ€™interprÃ©tations diverses (symboles du christianisme, Ã©cr
 itureshÃ©braÃ¯ques, etc . .\nAu cours de cette rencontre, vous pourrez
 voir Â cette piÃ¨ce unique et dont le mystÃ¨re reste entierâ€¦\nAu pla
 isir de vous accueillir pourdÃ©couvrir cette merveille exceptionnelle 
 !!.\nEntrÃ©e gratuite â€“ Une participation libre pour le porteur du C
 Å“ur.Â \nP. S.Merci de me communiquer votre prÃ©sence pour mieux vous 
 accueillir.\n\nEn rassemblant les deux morceaux de la gÃ©ode, que cell
 e-ci a la forme dâ€™un cÅ“ur et quâ€™Ã lâ€™intÃ©rieur il y a des inscr
 iptions et des symboles. Â« Nous nous trouvonsdevant quelque chose de 
 supÃ©rieur Ã  lâ€™homme Â» affirme Lucas, et depuis cemoment, la famil
 le Lucas sâ€™occupe de la gÃ©ode avec dÃ©vouement et admiration, etsan
 s but lucratif. Elle est en agate, avec des cristaux de quartz.Â \nSon
  poids approximatif est de 7kilogrammes. A lâ€™intÃ©rieur, on observe 
 des inscriptions et des cristaux dequartz, tel quâ€™un Â« J Â» de JÃ©s
 us, un Â« C Â» de Christ, un poisson avec troislongues rayures et troi
 s plus courtes ( le signe chrÃ©tien ? ). On remarqueensuite 13 signes 
 et le mot mille (de millÃ©naire ?) et dâ€™autres Ã©criturescomposÃ©es 
 de dizaines de points. De mÃªme, on peut constater une femme tenant un
 enfant dans ses bras (la Vierge Marie avec lâ€™enfant JÃ©sus ? ). Tout
 es cesimages et symboles sont en relief et formÃ©s de points brillants
 . On peut aussiapprÃ©cier en toute clartÃ©, les muscles du cÅ“ur, dont
  la prÃ©cision sâ€™avÃ¨reÃ©tonnante. Dans ce cÅ“ur, il apparaÃ®t un or
 ifice, comme la sortie des artÃ¨res..\n\nÂ« vÃ©ritable message pour lâ
 €™humanitÃ© Â».\nFinalement, avec lâ€™aide dâ€™un ami expert enancienn
 e Ã©criture, ils arrivent Ã  la conclusion de la prÃ©sence de deuxÃ©cr
 itures composant les messages, lâ€™une HÃ©braÃ¯que, et lâ€™autre Runiq
 ue (dans cetteordre dâ€™importance).\nAu mois dâ€™octobre 1998, lors d
 â€™un congrÃ¨sdans la ville de San Nicolas en Argentine, Hugo Lucas fi
 t une confÃ©rencepublique oÃ¹ la pierre fut le centre dâ€™attention de
  lâ€™assistance. On a puvÃ©rifier une fois de plus quâ€™elle contient 
 un message transcendantal. DesmÃ©diums et des personnes ordinaires con
 sidÃ¨rent quâ€™elle possÃ¨de une Ã©nergieparticuliÃ¨re. En effet, le r
 espect quâ€™on lui rÃ©serve touche chaque personne quivit une expÃ©rie
 nce particuliÃ¨re en lâ€™observant et en prenant contact avec elle.\n-
  Le cÅ“ur de pierre sera la seule piÃ¨ceexposÃ©e lors de la prÃ©sentat
 ion. Infos sur le coeur : coeurdepierre.duruguay@hotmail.fr\n-Â Nous s
 erons guidÃ©s par Michel AlmÃ©ras.\nVoici dâ€™autres liens concernant 
 le CÅ“urdâ€™UruguayÂ :\nlesvoiesdelasagesse.skynetblogs.be/.../etrange
 -le-coeur-d-agate-d-uruguay.html\nwww.lespacearcenciel.com/le-coeur-du
 ruguay-parcours-europe-2010.html\ncoeursdelumiere.blogspot.com/2009/10
 /le-coeur-dagate-duruguay.htmlÂ \n\nPour plus d'information, aller sur
  https://epanews.fr/events/le-coeur-duruguay
DTSTART;TZID=Europe/Paris:20110630T181500
DTEND;TZID=Europe/Paris:20110630T183000
CATEGORIES:84
LOCATION:CAVAILLON
WEBSITE:http://maps.google.com/maps?f=q&source=s_q&hl=fr&geocode=&q=13
 0+IMPASSE+TESTE+NEGRE+84300+TAILLADES&aq=&sll=37.0625,-95.677068&sspn=
 39.184175,78.662109&ie=UTF8&hq=&hnear=130+Impasse+de+Test%C3%A9+N%C3%A
 8gre,+84300+Taillades,+Vaucluse,+Provence-Alpes-C%C3%B4te+d'Azur,+Fran
 ce&z=16
URL:http://maps.google.com/maps?f=q&source=s_q&hl=fr&geocode=&q=130+IM
 PASSE+TESTE+NEGRE+84300+TAILLADES&aq=&sll=37.0625,-95.677068&sspn=39.1
 84175,78.662109&ie=UTF8&hq=&hnear=130+Impasse+de+Test%C3%A9+N%C3%A8gre
 ,+84300+Taillades,+Vaucluse,+Provence-Alpes-C%C3%B4te+d'Azur,+France&z
 =16
CONTACT:0670647259
ORGANIZER;CN="JoÃ«l Mercier":https://epanews.fr/profile/JoelMercier
ATTACH;FMTTYPE="image/jpeg":
ATTENDEE;ROLE=REQ-PARTICIPANT;PARTSTAT=ACCEPTED;RSVP=TRUE;CN="JoÃ«l Me
 rcier":https://epanews.fr/profile/JoelMercier
END:VEVENT
END:VCALENDAR
