BEGIN:VCALENDAR
PRODID:NingEventWidget-v1
VERSION:2.0
METHOD:PUBLISH
BEGIN:VTIMEZONE
TZID:Europe/Paris
X-LIC-LOCATION:Europe/Paris
BEGIN:DAYLIGHT
TZOFFSETFROM:+0100
TZOFFSETTO:+0200
TZNAME:CEST
DTSTART:19700329T020000
RRULE:FREQ=YEARLY;BYMONTH=3;BYDAY=-1SU
END:DAYLIGHT
BEGIN:STANDARD
TZOFFSETFROM:+0200
TZOFFSETTO:+0100
TZNAME:CET
DTSTART:19701025T030000
RRULE:FREQ=YEARLY;BYMONTH=10;BYDAY=-1SU
END:STANDARD
END:VTIMEZONE
BEGIN:VEVENT
UID:2485226:Event:941052
DTSTAMP:20260421T151642Z
SUMMARY:Le chant du bien-être
DESCRIPTION:l'association Nouvel Air propose un atelier de chants poly
 phoniques du monde, à vocation thérapeutique, tous les 1er samedi du
  mois. Il s'adresse à toute personne désireuse de découvrir sa voix
 . Une approche du chant choral à la découverte de soi, où chacun pe
 ut avancer à son rythme dans le respect et l'écoute de l'autre. A tr
 avers le travail du souffle et du son, libérer ses tensions pour s'ac
 corder au plaisir de chanter ensemble.\n\nPour plus d'information, all
 er sur https://epanews.fr/events/le-chant-du-bien-tre
DTSTART;TZID=Europe/Paris:20121006T020000
DTEND;TZID=Europe/Paris:20121006T050000
CATEGORIES:13
LOCATION:Espace Corps et Conscience
WEBSITE:http://www.nouva.fr
URL:http://www.nouva.fr
CONTACT:06 09 98 55 40
ORGANIZER;CN="Haurant Marielle":https://epanews.fr/profile/HaurantMari
 elle
ATTACH;FMTTYPE="image/jpeg":
ATTENDEE;ROLE=REQ-PARTICIPANT;PARTSTAT=ACCEPTED;RSVP=TRUE;CN="Haurant 
 Marielle":https://epanews.fr/profile/HaurantMarielle
END:VEVENT
END:VCALENDAR
