BEGIN:VCALENDAR
PRODID:NingEventWidget-v1
VERSION:2.0
METHOD:PUBLISH
BEGIN:VTIMEZONE
TZID:Europe/Paris
X-LIC-LOCATION:Europe/Paris
BEGIN:DAYLIGHT
TZOFFSETFROM:+0100
TZOFFSETTO:+0200
TZNAME:CEST
DTSTART:19700329T020000
RRULE:FREQ=YEARLY;BYMONTH=3;BYDAY=-1SU
END:DAYLIGHT
BEGIN:STANDARD
TZOFFSETFROM:+0200
TZOFFSETTO:+0100
TZNAME:CET
DTSTART:19701025T030000
RRULE:FREQ=YEARLY;BYMONTH=10;BYDAY=-1SU
END:STANDARD
END:VTIMEZONE
BEGIN:VEVENT
UID:2485226:Event:972998
DTSTAMP:20260419T182354Z
SUMMARY:le champ des mantras
DESCRIPTION:se laisser chanter, se laisser traverser par ces chants es
 t un baume à la fois pour soi même, la Terre et l'univers. www.terre
 nchnantee.com\n\nPour plus d'information, aller sur https://epanews.fr
 /events/le-champ-des-mantras
DTSTART;TZID=Europe/Paris:20121013T100000
DTEND;TZID=Europe/Paris:20121013T123000
CATEGORIES:84
LOCATION:lauris chez leila et georges dans la yourte
WEBSITE:
URL:
CONTACT:
ORGANIZER;CN="Claude Brame":https://epanews.fr/profile/claudeBrame
ATTACH;FMTTYPE="image/jpeg":
ATTENDEE;ROLE=REQ-PARTICIPANT;PARTSTAT=ACCEPTED;RSVP=TRUE;CN="Claude B
 rame":https://epanews.fr/profile/claudeBrame
END:VEVENT
END:VCALENDAR
