BEGIN:VCALENDAR
PRODID:NingEventWidget-v1
VERSION:2.0
METHOD:PUBLISH
BEGIN:VTIMEZONE
TZID:Europe/Paris
X-LIC-LOCATION:Europe/Paris
BEGIN:DAYLIGHT
TZOFFSETFROM:+0100
TZOFFSETTO:+0200
TZNAME:CEST
DTSTART:19700329T020000
RRULE:FREQ=YEARLY;BYMONTH=3;BYDAY=-1SU
END:DAYLIGHT
BEGIN:STANDARD
TZOFFSETFROM:+0200
TZOFFSETTO:+0100
TZNAME:CET
DTSTART:19701025T030000
RRULE:FREQ=YEARLY;BYMONTH=10;BYDAY=-1SU
END:STANDARD
END:VTIMEZONE
BEGIN:VEVENT
UID:2485226:Event:1827620
DTSTAMP:20260421T130834Z
SUMMARY:Le cerveau et l'anatomie de la Libération
DESCRIPTION:Pourquoi ce symposium sur le cerveau et l’anatomie de la
  Libération et à qui s’adresse-t-il ? Ce symposium est organisé 
 pour permettre une rencontre entre vous tous les Ami(e)s de Belgique e
 t des environs et 2 spécialistes Suisse de la santé, de la naturopat
 hie et de la philosophie qui ont consacré (et consacre toujours) une 
 grande partie de leur vie à comprendre et à expliquer avec simplicit
 é les rouages des mécanismes qui façonnent et gouvernent notre vie.
 Qu’ont-ils découvert de si intéressant qui mérite d’être parta
 gé avec nous tous ?Rose-Marie et Michel Cohen, en collaboration avec 
 plusieurs chercheurs ont découvert que notre anatomie était structur
 ée selon un plan parfaitement défini. Pour beaucoup d’entre nous, 
 hommes ou femmes, ce plan de vie est déjà tout tracé depuis notre e
 nfance et jusqu’à notre mort. Ce plan nous le voudrions pourtant he
 ureux mais, le sommes-nous ? D’autres pistes se sont ouvertes depui
 s quelques années et c’est un grand Espoir, une profonde Joie et un
  Bonheur immense, pour Rose-Marie et Michel Cohen que de pouvoir témo
 igner et expliquer simplement à tous ceux qui veulent l’entendre, c
 omment notre cerveau est notre anatomie sont structurées selon un pla
 n, un processus de Libération véritable, qui peut être suivi et vé
 cu dans cette vie par tous ceux qui le désire.C’est à cette grande
  fête que Rose-Marie et Michel vous convie.Pour faciliter l’organis
 ation, pensez à vous inscrire en cliquant sur :http://www.gnose-herme
 tisme.org/actualites-2/accueil-symposium-29-03-14/\n\nPour plus d'info
 rmation, aller sur https://epanews.fr/events/le-cerveau-et-l-anatomie-
 de-la-lib-ration
DTSTART;TZID=Europe/Paris:20140329T093000
DTEND;TZID=Europe/Paris:20140329T173000
CATEGORIES:belgique
LOCATION:Espace Edison, Axis Parc
WEBSITE:http://www.gnose-hermetisme.org
URL:http://www.gnose-hermetisme.org
CONTACT:0612353790
ORGANIZER;CN="Francis Vorlicek":https://epanews.fr/profile/FrancisVorl
 icek
ATTACH;FMTTYPE="image/jpeg":http://storage.ning.com/topology/rest/1.0/
 file/get/1663087041?profile=original
ATTENDEE;ROLE=REQ-PARTICIPANT;PARTSTAT=ACCEPTED;RSVP=TRUE;CN="Francis 
 Vorlicek":https://epanews.fr/profile/FrancisVorlicek
END:VEVENT
END:VCALENDAR
