BEGIN:VCALENDAR
PRODID:NingEventWidget-v1
VERSION:2.0
METHOD:PUBLISH
BEGIN:VTIMEZONE
TZID:Europe/Paris
X-LIC-LOCATION:Europe/Paris
BEGIN:DAYLIGHT
TZOFFSETFROM:+0100
TZOFFSETTO:+0200
TZNAME:CEST
DTSTART:19700329T020000
RRULE:FREQ=YEARLY;BYMONTH=3;BYDAY=-1SU
END:DAYLIGHT
BEGIN:STANDARD
TZOFFSETFROM:+0200
TZOFFSETTO:+0100
TZNAME:CET
DTSTART:19701025T030000
RRULE:FREQ=YEARLY;BYMONTH=10;BYDAY=-1SU
END:STANDARD
END:VTIMEZONE
BEGIN:VEVENT
UID:2485226:Event:2992278
DTSTAMP:20260424T112506Z
SUMMARY:Le bien-être de l’homme : purification des corps et évolut
 ion de la conscience
DESCRIPTION:L’être humain a toujours été à la recherche de son b
 ien-être, que ce soit par la satisfaction de ses besoins physiques et
  de ses désirs ou par sa quête de connaissance et de développement 
 spirituel.\n \nNous verrons que cette recherche ne peut aboutir que s
 i elle est intérieure, que si l’individu prend conscience de ses di
 fférents corps et s’il apprend à les maîtriser, permettant ainsi 
 à sa conscience spirituelle de s’élargir et de s’élever.\n \nN
 ous verrons également que certains êtres humains ont déjà réussi 
 ce processus d’expansion de conscience et qu’ils sont toujours là
  pour accompagner l’humanité.\n\nParticipation aux frais: 4 €\n\n
 Pour plus d'information, aller sur https://epanews.fr/events/le-bien-t
 re-de-l-homme-purification-des-corps-et-volution-de-la-1
DTSTART;TZID=Europe/Paris:20181218T153000
DTEND;TZID=Europe/Paris:20181218T180000
CATEGORIES:85
LOCATION:Espace de conférence de la Résidence Belle Plage
WEBSITE:
URL:
CONTACT:
ORGANIZER;CN="Amis de Partage International":https://epanews.fr/profil
 e/AmisdePartageInternational
ATTACH;FMTTYPE="image/jpeg":http://storage.ning.com/topology/rest/1.0/
 file/get/1663763093?profile=original
ATTENDEE;ROLE=REQ-PARTICIPANT;PARTSTAT=ACCEPTED;RSVP=TRUE;CN="Amis de 
 Partage International":https://epanews.fr/profile/AmisdePartageInterna
 tional
END:VEVENT
END:VCALENDAR
