BEGIN:VCALENDAR
PRODID:NingEventWidget-v1
VERSION:2.0
METHOD:PUBLISH
BEGIN:VTIMEZONE
TZID:Europe/Paris
X-LIC-LOCATION:Europe/Paris
BEGIN:DAYLIGHT
TZOFFSETFROM:+0100
TZOFFSETTO:+0200
TZNAME:CEST
DTSTART:19700329T020000
RRULE:FREQ=YEARLY;BYMONTH=3;BYDAY=-1SU
END:DAYLIGHT
BEGIN:STANDARD
TZOFFSETFROM:+0200
TZOFFSETTO:+0100
TZNAME:CET
DTSTART:19701025T030000
RRULE:FREQ=YEARLY;BYMONTH=10;BYDAY=-1SU
END:STANDARD
END:VTIMEZONE
BEGIN:VEVENT
UID:2485226:Event:2452361
DTSTAMP:20260421T202911Z
SUMMARY:Lama Jangchup à l'Espace24 !
DESCRIPTION:Lama Jangchup nous fait l'honneur de sa présence le jeudi
  5 novembre 2015 à l'Espace 24, pour partager son expérience de la m
 éditation.\nPlaces limitées, sur réservation\nlespace24@gmail.com\n
 Participation : 10€\n\nPour plus d'information, aller sur https://ep
 anews.fr/events/lama-jangchup-l-espace24
DTSTART;TZID=Europe/Paris:20151105T193000
DTEND;TZID=Europe/Paris:20151105T203000
CATEGORIES:94220
LOCATION:ESPACE24
WEBSITE:http://www.espace24.fr
URL:http://www.espace24.fr
CONTACT:01 43 96 19 49
ORGANIZER;CN=lespace24:https://epanews.fr/profile/lespace24
ATTACH;FMTTYPE="image/jpeg":http://storage.ning.com/topology/rest/1.0/
 file/get/1663471011?profile=original
ATTENDEE;ROLE=REQ-PARTICIPANT;PARTSTAT=ACCEPTED;RSVP=TRUE;CN=lespace24
 :https://epanews.fr/profile/lespace24
END:VEVENT
END:VCALENDAR
