BEGIN:VCALENDAR
PRODID:NingEventWidget-v1
VERSION:2.0
METHOD:PUBLISH
BEGIN:VTIMEZONE
TZID:Europe/Paris
X-LIC-LOCATION:Europe/Paris
BEGIN:DAYLIGHT
TZOFFSETFROM:+0100
TZOFFSETTO:+0200
TZNAME:CEST
DTSTART:19700329T020000
RRULE:FREQ=YEARLY;BYMONTH=3;BYDAY=-1SU
END:DAYLIGHT
BEGIN:STANDARD
TZOFFSETFROM:+0200
TZOFFSETTO:+0100
TZNAME:CET
DTSTART:19701025T030000
RRULE:FREQ=YEARLY;BYMONTH=10;BYDAY=-1SU
END:STANDARD
END:VTIMEZONE
BEGIN:VEVENT
UID:2485226:Event:182164
DTSTAMP:20260424T080734Z
SUMMARY:L'alimentation quantique
DESCRIPTION:Nous mangeons pour apporter des nutriments a notre corps p
 hysique: glucides, lipides, protéines, acides aminés, sels  minéra
 ux... Mais ces mêmes aliments nous apportent aussi l'énergie du sole
 il dont à besoin notre corps et un apport équilibré est important.\
 nToute maladie commence par un déséquilibre énergétique.\n \nDonc
  quelques notions du corps biophysique et des groupes alimentaires qui
  apportent ces différentes fréquences énergétiques.\nBienvenue!Par
 ticipation: 8 euro\n\nPour plus d'information, aller sur https://epane
 ws.fr/events/lalimentation-quantique
DTSTART;TZID=Europe/Paris:20110120T190000
DTEND;TZID=Europe/Paris:20110120T230000
CATEGORIES:75015
LOCATION:PARIS
WEBSITE:
URL:
CONTACT:06 61 54 36 57
ORGANIZER;CN="marie jaouen":https://epanews.fr/profile/mariejaouen
ATTACH;FMTTYPE="image/jpeg":http://storage.ning.com/topology/rest/1.0/
 file/get/1662373358?profile=original
ATTENDEE;ROLE=REQ-PARTICIPANT;PARTSTAT=ACCEPTED;RSVP=TRUE;CN="marie ja
 ouen":https://epanews.fr/profile/mariejaouen
END:VEVENT
END:VCALENDAR
