BEGIN:VCALENDAR
PRODID:NingEventWidget-v1
VERSION:2.0
METHOD:PUBLISH
BEGIN:VTIMEZONE
TZID:Europe/Paris
X-LIC-LOCATION:Europe/Paris
BEGIN:DAYLIGHT
TZOFFSETFROM:+0100
TZOFFSETTO:+0200
TZNAME:CEST
DTSTART:19700329T020000
RRULE:FREQ=YEARLY;BYMONTH=3;BYDAY=-1SU
END:DAYLIGHT
BEGIN:STANDARD
TZOFFSETFROM:+0200
TZOFFSETTO:+0100
TZNAME:CET
DTSTART:19701025T030000
RRULE:FREQ=YEARLY;BYMONTH=10;BYDAY=-1SU
END:STANDARD
END:VTIMEZONE
BEGIN:VEVENT
UID:2485226:Event:1379835
DTSTAMP:20260422T162544Z
SUMMARY:\" la Voix et le Souffle, 2 outils à maîtriser \"
DESCRIPTION:\n\"La Voix et le souffle,\n2 outils à maîtriser\"\nATEL
 IER ouvert :\n- à toutes les personnes qui souhaitent découvrir et t
 ravailler\nVoix et Souffle pour repousser ses limites\n- aux débutant
 s et amateurs dans une activité d'expression vocale,\n- à ceux pour 
 qui la voix est un outil professionnel.\nLe Samedi 8 Juin 2013 de 14h 
 à 18h\nà Salinelles (Sommières)\ndans la salle de Yoga - chemin Fer
 ré\n50 euros par personne\nnombre limité\n\nPour plus d'information,
  aller sur https://epanews.fr/events/la-voix-et-le-souffle-2-outils-ma
 -triser
DTSTART;TZID=Europe/Paris:20130608T140000
DTEND;TZID=Europe/Paris:20130608T180000
CATEGORIES:30
LOCATION:salle de Yoga
WEBSITE:
URL:
CONTACT:
ORGANIZER;CN="Scarabin Pascale":https://epanews.fr/profile/ScarabinPas
 cale
ATTACH;FMTTYPE="image/jpeg":
ATTENDEE;ROLE=REQ-PARTICIPANT;PARTSTAT=ACCEPTED;RSVP=TRUE;CN="Scarabin
  Pascale":https://epanews.fr/profile/ScarabinPascale
END:VEVENT
END:VCALENDAR
