BEGIN:VCALENDAR
PRODID:NingEventWidget-v1
VERSION:2.0
METHOD:PUBLISH
BEGIN:VTIMEZONE
TZID:Europe/Paris
X-LIC-LOCATION:Europe/Paris
BEGIN:DAYLIGHT
TZOFFSETFROM:+0100
TZOFFSETTO:+0200
TZNAME:CEST
DTSTART:19700329T020000
RRULE:FREQ=YEARLY;BYMONTH=3;BYDAY=-1SU
END:DAYLIGHT
BEGIN:STANDARD
TZOFFSETFROM:+0200
TZOFFSETTO:+0100
TZNAME:CET
DTSTART:19701025T030000
RRULE:FREQ=YEARLY;BYMONTH=10;BYDAY=-1SU
END:STANDARD
END:VTIMEZONE
BEGIN:VEVENT
UID:2485226:Event:2314690
DTSTAMP:20260422T071103Z
SUMMARY:La voie sacrée des nombres
DESCRIPTION:Diaporama commenté & discussion  Animés par J.José Mayo
 l, informaticien  Notre conscience passe par 3 étapes : Le Cercle de 
 l'amour ( 0 ) révèle l'unique en soi ( 1 ) puis en l'autre ( 2 ). Ap
 paraît alors la fleur de vie…  Rens. 06 03 04 11 35 & 04 94 85 18 7
 3.\n\nPour plus d'information, aller sur https://epanews.fr/events/la-
 voie-sacr-e-des-nombres
DTSTART;TZID=Europe/Paris:20150529T200000
DTEND;TZID=Europe/Paris:20150529T220000
CATEGORIES:83
LOCATION:Le Liber'Thé
WEBSITE:https://www.facebook.com/LeLiberThe/events?ref=page_internal
URL:https://www.facebook.com/LeLiberThe/events?ref=page_internal
CONTACT:0695500225
ORGANIZER:Le Liber'Thé
ATTACH;FMTTYPE="image/jpeg":http://storage.ning.com/topology/rest/1.0/
 file/get/1663388237?profile=original
ATTENDEE;ROLE=REQ-PARTICIPANT;PARTSTAT=ACCEPTED;RSVP=TRUE;CN="Alliance
  Art' & Bien-être":https://epanews.fr/profile/AllianceArtBienetre
END:VEVENT
END:VCALENDAR
