BEGIN:VCALENDAR
PRODID:NingEventWidget-v1
VERSION:2.0
METHOD:PUBLISH
BEGIN:VTIMEZONE
TZID:Europe/Paris
X-LIC-LOCATION:Europe/Paris
BEGIN:DAYLIGHT
TZOFFSETFROM:+0100
TZOFFSETTO:+0200
TZNAME:CEST
DTSTART:19700329T020000
RRULE:FREQ=YEARLY;BYMONTH=3;BYDAY=-1SU
END:DAYLIGHT
BEGIN:STANDARD
TZOFFSETFROM:+0200
TZOFFSETTO:+0100
TZNAME:CET
DTSTART:19701025T030000
RRULE:FREQ=YEARLY;BYMONTH=10;BYDAY=-1SU
END:STANDARD
END:VTIMEZONE
BEGIN:VEVENT
UID:2485226:Event:2248713
DTSTAMP:20260421T210801Z
SUMMARY:La Voie du Cinabre & la Kabbale
DESCRIPTION:La Voie du Cinabre & la Kabbale 3 jours avec Toni Ceron et
  Guy Villeneuve  Pratique de la voie du Cinabre Relation avec l’Arbr
 e des Sephiroth, les Lettres hébraïques et les Arcanes du Tarot Voie
  du Cinabre et les Fréquences-Chakras tout le long de l’Œuvre\n\nP
 our plus d'information, aller sur https://epanews.fr/events/la-voie-du
 -cinabre-la-kabbale
DTSTART;TZID=Europe/Paris:20150410T000000
DTEND;TZID=Europe/Paris:20150412T235900
CATEGORIES:74
LOCATION:Orcier
WEBSITE:http://www.spagytherapie.com/seminaires.php
URL:http://www.spagytherapie.com/seminaires.php
CONTACT:04 50 73 93 31
ORGANIZER;CN="Lydie Spagythérapie":https://epanews.fr/profile/LydieSp
 agytherapie
ATTACH;FMTTYPE="image/jpeg":
ATTENDEE;ROLE=REQ-PARTICIPANT;PARTSTAT=ACCEPTED;RSVP=TRUE;CN="Lydie Sp
 agythérapie":https://epanews.fr/profile/LydieSpagytherapie
END:VEVENT
END:VCALENDAR
