BEGIN:VCALENDAR
PRODID:NingEventWidget-v1
VERSION:2.0
METHOD:PUBLISH
BEGIN:VTIMEZONE
TZID:Europe/Paris
X-LIC-LOCATION:Europe/Paris
BEGIN:DAYLIGHT
TZOFFSETFROM:+0100
TZOFFSETTO:+0200
TZNAME:CEST
DTSTART:19700329T020000
RRULE:FREQ=YEARLY;BYMONTH=3;BYDAY=-1SU
END:DAYLIGHT
BEGIN:STANDARD
TZOFFSETFROM:+0200
TZOFFSETTO:+0100
TZNAME:CET
DTSTART:19701025T030000
RRULE:FREQ=YEARLY;BYMONTH=10;BYDAY=-1SU
END:STANDARD
END:VTIMEZONE
BEGIN:VEVENT
UID:2485226:Event:850528
DTSTAMP:20260423T014628Z
SUMMARY:\"La Voie Chamanique du Coeur\" par Soledad Domec
DESCRIPTION:La chilienne Soledad Domec nous propose au coeur de Marsei
 lle (Métro Noailles) une présentation de la voie chamanique du coeur
 \nUne transmission vivante orale et énergétique, suivie d'une expér
 imentation pratique\nSoledad, canal de guérison, voyage depuis quinze
  ans aux quatre coins du Monde s'imprégnant et transmettant, au fil d
 'initiations diverses de toutes traditions, de l'essence d'Amour du Vi
 vant, du Vibrant\nparticipation : 15 euros\n\n \n\nPour plus d'inform
 ation, aller sur https://epanews.fr/events/la-voie-chamanique-du-coeur
 -par-soledad-domec
DTSTART;TZID=Europe/Paris:20120626T190000
DTEND;TZID=Europe/Paris:20120626T220000
CATEGORIES:13
LOCATION:Marseille
WEBSITE:http://www.larbredevie.e-monsite.com
URL:http://www.larbredevie.e-monsite.com
CONTACT:06.27.67.50.71 / l.arbre.de.vie13@gmail.com
ORGANIZER;CN="Alban Bourdy":https://epanews.fr/profile/AlbanBourdy
ATTACH;FMTTYPE="image/jpeg":http://storage.ning.com/topology/rest/1.0/
 file/get/1662619676?profile=original
ATTENDEE;ROLE=REQ-PARTICIPANT;PARTSTAT=ACCEPTED;RSVP=TRUE;CN="Alban Bo
 urdy":https://epanews.fr/profile/AlbanBourdy
ATTENDEE;ROLE=REQ-PARTICIPANT;PARTSTAT=TENTATIVE;RSVP=TRUE;CN=NADIA:ht
 tps://epanews.fr/profile/milord
END:VEVENT
END:VCALENDAR
