BEGIN:VCALENDAR
PRODID:NingEventWidget-v1
VERSION:2.0
METHOD:PUBLISH
BEGIN:VTIMEZONE
TZID:Europe/Paris
X-LIC-LOCATION:Europe/Paris
BEGIN:DAYLIGHT
TZOFFSETFROM:+0100
TZOFFSETTO:+0200
TZNAME:CEST
DTSTART:19700329T020000
RRULE:FREQ=YEARLY;BYMONTH=3;BYDAY=-1SU
END:DAYLIGHT
BEGIN:STANDARD
TZOFFSETFROM:+0200
TZOFFSETTO:+0100
TZNAME:CET
DTSTART:19701025T030000
RRULE:FREQ=YEARLY;BYMONTH=10;BYDAY=-1SU
END:STANDARD
END:VTIMEZONE
BEGIN:VEVENT
UID:2485226:Event:638713
DTSTAMP:20260424T044217Z
SUMMARY:La virilité aujourd'hui
DESCRIPTION:Dans le cadre de l'Instant d'amour, le thème de la virili
 té semble adapté! une sorte de café-psycho: 20 minutes d'écoute mu
 tuelle, débat, hugs, repas facultatif. Le tout est convivial et très
  participatif.\n\nPour plus d'information, aller sur https://epanews.f
 r/events/la-virilit-aujourd-hui
DTSTART;TZID=Europe/Paris:20120118T191500
DTEND;TZID=Europe/Paris:20120118T210000
CATEGORIES:83, 13
LOCATION:TOULON
WEBSITE:
URL:
CONTACT:04 94 90 59 01 et 06 15 85 75 62
ORGANIZER;CN="COLLIN gilles":https://epanews.fr/profile/COLLINgilles
ATTACH;FMTTYPE="image/jpeg":
ATTENDEE;ROLE=REQ-PARTICIPANT;PARTSTAT=ACCEPTED;RSVP=TRUE;CN="COLLIN g
 illes":https://epanews.fr/profile/COLLINgilles
END:VEVENT
END:VCALENDAR
