BEGIN:VCALENDAR
PRODID:NingEventWidget-v1
VERSION:2.0
METHOD:PUBLISH
BEGIN:VTIMEZONE
TZID:Europe/Paris
X-LIC-LOCATION:Europe/Paris
BEGIN:DAYLIGHT
TZOFFSETFROM:+0100
TZOFFSETTO:+0200
TZNAME:CEST
DTSTART:19700329T020000
RRULE:FREQ=YEARLY;BYMONTH=3;BYDAY=-1SU
END:DAYLIGHT
BEGIN:STANDARD
TZOFFSETFROM:+0200
TZOFFSETTO:+0100
TZNAME:CET
DTSTART:19701025T030000
RRULE:FREQ=YEARLY;BYMONTH=10;BYDAY=-1SU
END:STANDARD
END:VTIMEZONE
BEGIN:VEVENT
UID:2485226:Event:560132
DTSTAMP:20260423T030022Z
SUMMARY:La vie généreuse par la psychologie Biodynamique
DESCRIPTION:Nouvelle conférence, nouvelle HappySoirée !  Alors que c
 hacun de nos désirs rencontre une multitude de propositions, comme ja
 mais l'humanité n'en a connu, il est curieux de voir combien nous aff
 ichons des visages fermés. La vie ne se remplit pas de l'extérieur. 
  C'est à la rencontre de l'abondance des sensations de notre corps qu
 e nous pouvons nous sentir satisfaits. Se rouvrir à ses impressions a
 mène non seulement une source de joie et de découvertes, mais attire
  des réponses généreuses de la vie et de l'univers.  La Psychologie
  Biodynamique, en déliant les blocages psychiques et corporels, perme
 t à la vie sensorielle de re-circuler, pour amener conscience et vie.
   INFOS :\nLieu : Centre 665, 665 route de Mende, Montpellier\nDébut 
 à 20h00.\nDurée : environ 1h30.\n Entrée à 6€ (4€ pour les adh
 érents).   Venez nombreux !\n \nPlus d'informations sur notre site :
  www.happyplanetdays.com !\n\nPour plus d'information, aller sur https
 ://epanews.fr/events/la-vie-g-n-reuse-par-la-psychologie-biodynamique
DTSTART;TZID=Europe/Paris:20111011T200000
DTEND;TZID=Europe/Paris:20111011T230000
CATEGORIES:34
LOCATION:Montpellier
WEBSITE:http://www.happyplanetdays.com
URL:http://www.happyplanetdays.com
CONTACT:06 32 08 51 58
ORGANIZER:Association HappyPlanetDays
ATTACH;FMTTYPE="image/jpeg":http://storage.ning.com/topology/rest/1.0/
 file/get/1662472162?profile=original
ATTENDEE;ROLE=REQ-PARTICIPANT;PARTSTAT=ACCEPTED;RSVP=TRUE;CN="Sophie v
 db":https://epanews.fr/profile/Sophievdb
END:VEVENT
END:VCALENDAR
