BEGIN:VCALENDAR
PRODID:NingEventWidget-v1
VERSION:2.0
METHOD:PUBLISH
BEGIN:VTIMEZONE
TZID:Europe/Paris
X-LIC-LOCATION:Europe/Paris
BEGIN:DAYLIGHT
TZOFFSETFROM:+0100
TZOFFSETTO:+0200
TZNAME:CEST
DTSTART:19700329T020000
RRULE:FREQ=YEARLY;BYMONTH=3;BYDAY=-1SU
END:DAYLIGHT
BEGIN:STANDARD
TZOFFSETFROM:+0200
TZOFFSETTO:+0100
TZNAME:CET
DTSTART:19701025T030000
RRULE:FREQ=YEARLY;BYMONTH=10;BYDAY=-1SU
END:STANDARD
END:VTIMEZONE
BEGIN:VEVENT
UID:2485226:Event:802126
DTSTAMP:20260422T035757Z
SUMMARY:La Vague + Sadhana + Intensif Kundalini Yoga
DESCRIPTION:Week-end de l'Ascension en partenariat avec l'association 
 Layama une sÃ©rie d'activitÃ©s dans leur trÃ¨s beau lieu Ã  BibÃ©mus, 
 Cela commencera le Vendredi 18 Mai Ã  partir de 19h jusqu'Ã  21h avec 
 la Vague. \"La Vague est un espace musical composÃ© de plusieurs phase
 s, de la douceur ondulante vers l'animation dynamique, formant, telles
  des vagues, deux montÃ©s et deux descentes, le tout durant 2 heures. 
 En dansant sur la Vague nous choisissons de nous abandonner avec confi
 ance au mouvement instinctif de notre corps.Â  Â  Â  Â  Â  Â  Â  Â  Â 
  Â  Â  Â  Â Â Â Â Â Â Â Â Â Â Â Â Â Â Â Â Â Â  Votre serviteur sera au
 x platines...Â Â Â Â  Â  Â  Â  Â  Â  Â  Â  Â  Â Â  Â Â Â Â Â Â Â Â Â Â
  Â Â Â Â Â Â Â Â Â Â Â  Tarifs : 13 â‚¬/12â‚¬ avec la carte Layama\n\n
 \n***************************************************************** Le
  lendemain, Samedi 19 Mai, Sadhana du Verseau de 5h Ã  7h30 - Lecture 
 du JapJi Sahib - SÃ©ance de Yoga - Mantras chantÃ©s Tarifs : Gratuit (
 vous pouvez apporter vos instruments de musique et un petit dÃ©jeuner.
 ..)\n\n ************************************************************ C
 ours intensif de Kundalini Yoga de 9h Ã  12h Le Mental, ses aspects, p
 rojections et facettes. Nous aborderons le compagnon le plus important
 , le mental, et sa structure.PrÃ©parez vous Ã  une Ã©tude intensive, p
 as un dÃ©bat intellectuel, mais une confrontation intelligente avec vo
 tre propre expÃ©rience. Tarifs : 30â‚¬Â  /Â  24â‚¬ avec la carte Layam
 a\n\n*************************************************************** T
 arif forfaitaire de 30â‚¬ pour la Vague + cours intensif de Yoga Possi
 bilitÃ© de dormir sur place, soit dans la Yourte, soit Ã  la belle Ã©t
 oile. A la joie de vous retrouver :-) Siri Kar SinghÂ Â Â Â Â Â Â Â Â 
 Â Â Â Â Â Â Â Â Â Â Â Â Â Â Â Â Â Â Â Â Â Â Â Â Â Â Â Â Â Â Â Â Â Â Â 
 Â Â Â Â Â Â Â Â Â Â Â Â Â Â Â Â Â Â Â Â Â Â Â  En Savoir + ICI\n\nPour
  plus d'information, aller sur https://epanews.fr/events/la-vague-sadh
 ana-intensif-kundalini-yoga
DTSTART;TZID=Europe/Paris:20120518T190000
DTEND;TZID=Europe/Paris:20120519T000000
CATEGORIES:13
LOCATION:Aix-en-Provence
WEBSITE:http://www.layama.org
URL:http://www.layama.org
CONTACT:06 23 38 58 55
ORGANIZER;CN=SiriKar:https://epanews.fr/profile/SiriKar
ATTACH;FMTTYPE="image/jpeg":http://storage.ning.com/topology/rest/1.0/
 file/get/1662607521?profile=original
ATTENDEE;ROLE=REQ-PARTICIPANT;PARTSTAT=ACCEPTED;RSVP=TRUE;CN=Sofy:http
 s://epanews.fr/profile/Sofy
ATTENDEE;ROLE=REQ-PARTICIPANT;PARTSTAT=ACCEPTED;RSVP=TRUE;CN=SiriKar:h
 ttps://epanews.fr/profile/SiriKar
ATTENDEE;ROLE=REQ-PARTICIPANT;PARTSTAT=TENTATIVE;RSVP=TRUE;CN="guittet
 .":https://epanews.fr/profile/guittet
ATTENDEE;ROLE=REQ-PARTICIPANT;PARTSTAT=TENTATIVE;RSVP=TRUE;CN=corinne3
 34:https://epanews.fr/profile/corinne334
END:VEVENT
END:VCALENDAR
