BEGIN:VCALENDAR
PRODID:NingEventWidget-v1
VERSION:2.0
METHOD:PUBLISH
BEGIN:VTIMEZONE
TZID:Europe/Paris
X-LIC-LOCATION:Europe/Paris
BEGIN:DAYLIGHT
TZOFFSETFROM:+0100
TZOFFSETTO:+0200
TZNAME:CEST
DTSTART:19700329T020000
RRULE:FREQ=YEARLY;BYMONTH=3;BYDAY=-1SU
END:DAYLIGHT
BEGIN:STANDARD
TZOFFSETFROM:+0200
TZOFFSETTO:+0100
TZNAME:CET
DTSTART:19701025T030000
RRULE:FREQ=YEARLY;BYMONTH=10;BYDAY=-1SU
END:STANDARD
END:VTIMEZONE
BEGIN:VEVENT
UID:2485226:Event:150860
DTSTAMP:20260420T013628Z
SUMMARY:La ThÃ©orie du DÃ©doublement
DESCRIPTION:\"La ThÃ©orie du DÃ©doublement\", dÃ©couverte et formalisÃ
 ©e par Jean-Pierre Garnier Malet, fera l'objet de cette tÃ©lÃ©confÃ©re
 nce libre d'accÃ¨s avec Daniel Lehmuller. Il nous expliquera les fonde
 ments de cette thÃ©orie, et surtout comment la mettre en pratique pour
  mieux \"gÃ©rer son futur\" grÃ¢ce aux ouvertures temporelles, qui se 
 font de plus en plus frÃ©quentes en cette fin de cycle que nous vivons
 ...\n\nInscrivez-vous gratuitement ici: http://bit.ly/DLDouble\n\nPS. 
 Pour un maximum de disponibilitÃ© des auditeurs, la confÃ©rence sera d
 onnÃ©e une 2Ã¨me fois le jeudi 11 novembre Ã  10h30! Vous pouvez assis
 ter Ã  l'une ou l'autre - ou les deux! :)\n\nPour plus d'information, 
 aller sur https://epanews.fr/events/la-theorie-du-dedoublement
DTSTART;TZID=Europe/Paris:20101110T210000
DTEND;TZID=Europe/Paris:20101110T223000
CATEGORIES:tous
LOCATION:OÃ¹ que vous voulez, prÃ¨s d'un tÃ©lÃ©phone ou un ordinateur.
 ..
WEBSITE:http://bit.ly/DLDouble
URL:http://bit.ly/DLDouble
CONTACT:06 31 68 06 99
ORGANIZER;CN="Maria Annell - EFT Pour Tous":https://epanews.fr/profile
 /MariaAnnellEFTPourTous
ATTACH;FMTTYPE="image/jpeg":
ATTENDEE;ROLE=REQ-PARTICIPANT;PARTSTAT=ACCEPTED;RSVP=TRUE;CN="Maria An
 nell - EFT Pour Tous":https://epanews.fr/profile/MariaAnnellEFTPourTou
 s
END:VEVENT
END:VCALENDAR
