BEGIN:VCALENDAR
PRODID:NingEventWidget-v1
VERSION:2.0
METHOD:PUBLISH
BEGIN:VTIMEZONE
TZID:Europe/Paris
X-LIC-LOCATION:Europe/Paris
BEGIN:DAYLIGHT
TZOFFSETFROM:+0100
TZOFFSETTO:+0200
TZNAME:CEST
DTSTART:19700329T020000
RRULE:FREQ=YEARLY;BYMONTH=3;BYDAY=-1SU
END:DAYLIGHT
BEGIN:STANDARD
TZOFFSETFROM:+0200
TZOFFSETTO:+0100
TZNAME:CET
DTSTART:19701025T030000
RRULE:FREQ=YEARLY;BYMONTH=10;BYDAY=-1SU
END:STANDARD
END:VTIMEZONE
BEGIN:VEVENT
UID:2485226:Event:949284
DTSTAMP:20260420T081956Z
SUMMARY:\"la symbolique des contes de fÃ©es\" avec Ode-Pactat Didier
DESCRIPTION:\"La Symbolique des Contes de FÃ©es\" avec Ode-Pactat Didi
 er\n\nÂ« Il Ã©tait une fois â€¦ On jouait, on sâ€™arrÃªte Â»Ainsi comm
 enÃ§ait un poÃ¨me que lâ€™on apprenait Ã  lâ€™Ã©cole primaire.Depuis d
 es siÃ¨cles, le mot magique retentit et provoque les mÃªmes effets : d
 Ã©tente, disponibilitÃ©, ECOUTE intÃ©rieure.Les contes de fÃ©es ont-il
 s gardÃ© leur magie, leur pouvoir enchanteur auprÃ¨s des jeunes gÃ©nÃ©
 rations ?Les enfants dâ€™aujourdâ€™hui ont-ils encore besoin des fÃ©es
 , des gÃ©nies, des ogres et des sorciÃ¨res dâ€™antan ?Ces contes que l
 es gÃ©nÃ©rations ont enrichis et fixÃ©s dans la forme que nous connais
 sons auraient-ils un impact sur notre dÃ©veloppement psychologique, qu
 e nous ayons 7 ou 77 ans ? Si oui, pourquoi ?Ce qui fait lâ€™ensorcell
 ement des contes de fÃ©es, leur sÃ©duction, câ€™est ce qui survit en e
 ux de lâ€™atmosphÃ¨re des rituels antiques.Ils nous invitent Ã  pÃ©nÃ©
 trer dans un univers divin sous-jacent au monde physique, un royaume o
 Ã¹ la matiÃ¨re nâ€™a pas de poids, oÃ¹ la pensÃ©e est libre, immortell
 e et souveraine.VoilÃ  pourquoi il ne faut pas manipuler les contes nâ
 €™importe comment afin que soit prÃ©servÃ©e leur magie.Les contes de f
 Ã©es Ã©tant reconnus de nos jours comme initiatiques dans leur essence
  vont donc sâ€™adresser aux trois parties composant lâ€™Ãªtre humain :
 - la partie psychique, la psychÃ©, lâ€™Ã¢me,- la partie Ã©sotÃ©rique, 
 celle qui se cache derriÃ¨re les mythes et les symboles,- la partie al
 chimique qui reprÃ©sente la transformation, prÃ©figurant la Transmutat
 ion de lâ€™homme ordinaire en Homme Parfait.Cette confÃ©rence est dest
 inÃ©e Ã  faire pÃ©nÃ©trer les adultes que nous sommes devenus dans le 
 monde magique des contes, afin dâ€™en comprendre les ressorts secrets.
  Ensuite, nous aurons la mission dâ€™en Ãªtre les interprÃ¨tes fidÃ¨le
 s auprÃ¨s de nos enfants.\n04 71 00 71 78 ouÂ odepactatdidier@gmail.co
 m; \nTarif de la confÃ©rence : 10â‚¬ /7â‚¬ (adhÃ©rents de l'Associatio
 n \"Apprenti-Sage\")\n\nPour plus d'information, aller sur https://epa
 news.fr/events/la-symbolique-des-contes-de-f-es-avec-ode-pactat-didier
DTSTART;TZID=Europe/Paris:20121116T200000
DTEND;TZID=Europe/Paris:20121116T223000
CATEGORIES:83
LOCATION:salle la pÃ©piniÃ¨re
WEBSITE:
URL:
CONTACT:Claire PENNA  au 06 14 25 83 79 ou claire.penna@dbmail.com
ORGANIZER;CN="Franck et Nadine Sarah Aubert":https://epanews.fr/profil
 e/FranckAUBERT
ATTACH;FMTTYPE="image/jpeg":http://storage.ning.com/topology/rest/1.0/
 file/get/1662666105?profile=original
ATTENDEE;ROLE=REQ-PARTICIPANT;PARTSTAT=ACCEPTED;RSVP=TRUE;CN="Franck e
 t Nadine Sarah Aubert":https://epanews.fr/profile/FranckAUBERT
END:VEVENT
END:VCALENDAR
