BEGIN:VCALENDAR
PRODID:NingEventWidget-v1
VERSION:2.0
METHOD:PUBLISH
BEGIN:VTIMEZONE
TZID:Europe/Paris
X-LIC-LOCATION:Europe/Paris
BEGIN:DAYLIGHT
TZOFFSETFROM:+0100
TZOFFSETTO:+0200
TZNAME:CEST
DTSTART:19700329T020000
RRULE:FREQ=YEARLY;BYMONTH=3;BYDAY=-1SU
END:DAYLIGHT
BEGIN:STANDARD
TZOFFSETFROM:+0200
TZOFFSETTO:+0100
TZNAME:CET
DTSTART:19701025T030000
RRULE:FREQ=YEARLY;BYMONTH=10;BYDAY=-1SU
END:STANDARD
END:VTIMEZONE
BEGIN:VEVENT
UID:2485226:Event:281617
DTSTAMP:20260420T173923Z
SUMMARY:la soirÃ©e d'horizons Bien-ÃŠtre : jeudi 05/05/2011
DESCRIPTION:Notre rendez-vous mensuel Ã  la Maison de la mer (corniche
  Kennedy-plage du prophÃ¨te),\n\njeudi 5 Mai 2001 Ã  partir de 18h30 :
 \n\n\"Connaissez-vous la diÃ©tÃ©tique hippocratique ?\"\n\nje vous inv
 ite Ã  faire un petit voyage dans la GrÃ¨ce Antique, pour :\n- dÃ©couv
 rir la thÃ©orie des humeurs et des tempÃ©raments Ã©laborÃ©e par Hippoc
 rate\n- ï»¿dÃ©terminer votre tempÃ©rament dominant, et connaÃ®tre ains
 i vos points forts et vos points faibles (alimentation, activitÃ© spor
 tive, prÃ©disposition physiologique...)\n\nAprÃ¨s cette petite prÃ©sen
 tation, nous partagerons quelques victuailles apportÃ©es par chacunâ€¦
 \n\nAfin d'organiser au mieux la soirÃ©e, merci de confirmer votre prÃ
 ©sence par mail Ã  : horizons.bienetre@yahoo.fr \n\nKarine HADJI pour 
 l'association Horizons Bien-ÃŠtre\n-----------------------------------
 ---------------------------------------------\n\nHORIZONS bien-Ãªtre\n
 04 91 31 46 03 \nhorizons.bienetre@yahoo.fr \n\n\nPour plus d'informat
 ion, aller sur https://epanews.fr/events/la-soiree-dhorizons-bienetre
DTSTART;TZID=Europe/Paris:20110505T183000
DTEND;TZID=Europe/Paris:20110505T210000
CATEGORIES:13
LOCATION:Marseille (13007)
WEBSITE:
URL:
CONTACT:0612417733
ORGANIZER;CN=Karine:https://epanews.fr/profile/Karine371
ATTACH;FMTTYPE="image/jpeg":
ATTENDEE;ROLE=REQ-PARTICIPANT;PARTSTAT=ACCEPTED;RSVP=TRUE;CN=Karine:ht
 tps://epanews.fr/profile/Karine371
END:VEVENT
END:VCALENDAR
