BEGIN:VCALENDAR
PRODID:NingEventWidget-v1
VERSION:2.0
METHOD:PUBLISH
BEGIN:VTIMEZONE
TZID:Europe/Paris
X-LIC-LOCATION:Europe/Paris
BEGIN:DAYLIGHT
TZOFFSETFROM:+0100
TZOFFSETTO:+0200
TZNAME:CEST
DTSTART:19700329T020000
RRULE:FREQ=YEARLY;BYMONTH=3;BYDAY=-1SU
END:DAYLIGHT
BEGIN:STANDARD
TZOFFSETFROM:+0200
TZOFFSETTO:+0100
TZNAME:CET
DTSTART:19701025T030000
RRULE:FREQ=YEARLY;BYMONTH=10;BYDAY=-1SU
END:STANDARD
END:VTIMEZONE
BEGIN:VEVENT
UID:2485226:Event:704492
DTSTAMP:20260420T023044Z
SUMMARY:La soirée Tantra du mardi
DESCRIPTION:Deux heures trente pour ouvrir son énergie et son cœur,
  habiter son corps, respirer, pour se réconcilier avec la vie et avec
  soi, se rencontrer par la relation, apprivoiser l'intimité véritabl
 e et intègre et la relation homme/femme. Les soirées Tantra du mard
 i favorisent une maturité corporelle, émotionnelle, relationnelle et
  donnent des pistes concrètes afin de réconcilier masculin et fémin
 in. Chaque soirée Tantra offre un exercice spécifique et progressif
 , des clefs concrètes.  Prochaines soirées Tantra  Tantra 11 décem
 bre 2012. \nAttention il y a désormais un code\n\nPour plus d'inform
 ation, aller sur https://epanews.fr/events/la-soir-e-tantra-du-mardi-6
DTSTART;TZID=Europe/Paris:20121113T194500
DTEND;TZID=Europe/Paris:20121113T223000
CATEGORIES:75
LOCATION:Paris
WEBSITE:http://www.tantradianebellego.com
URL:http://www.tantradianebellego.com
CONTACT:06 76 74 35 10
ORGANIZER;CN="Tantra de la Réconciliation":https://epanews.fr/profile
 /TantradelaReconciliation
ATTACH;FMTTYPE="image/jpeg":
ATTENDEE;ROLE=REQ-PARTICIPANT;PARTSTAT=ACCEPTED;RSVP=TRUE;CN="Tantra d
 e la Réconciliation":https://epanews.fr/profile/TantradelaReconciliat
 ion
END:VEVENT
END:VCALENDAR
