BEGIN:VCALENDAR
PRODID:NingEventWidget-v1
VERSION:2.0
METHOD:PUBLISH
BEGIN:VTIMEZONE
TZID:Europe/Paris
X-LIC-LOCATION:Europe/Paris
BEGIN:DAYLIGHT
TZOFFSETFROM:+0100
TZOFFSETTO:+0200
TZNAME:CEST
DTSTART:19700329T020000
RRULE:FREQ=YEARLY;BYMONTH=3;BYDAY=-1SU
END:DAYLIGHT
BEGIN:STANDARD
TZOFFSETFROM:+0200
TZOFFSETTO:+0100
TZNAME:CET
DTSTART:19701025T030000
RRULE:FREQ=YEARLY;BYMONTH=10;BYDAY=-1SU
END:STANDARD
END:VTIMEZONE
BEGIN:VEVENT
UID:2485226:Event:2866885
DTSTAMP:20260420T123535Z
SUMMARY:Atelier peinture de sable contemporain animé par Lorenza Garc
 ia
DESCRIPTION:\n\nPour plus d'information, aller sur https://epanews.fr/
 events/la-semenceraie
DTSTART;TZID=Europe/Paris:20170930T100000
DTEND;TZID=Europe/Paris:20171001T180000
CATEGORIES:83210
LOCATION:la cerisaie 83210 belgentier
WEBSITE:
URL:
CONTACT:0663656799.ou0611253216
ORGANIZER:florence, nathalie et catherine
ATTACH;FMTTYPE="image/jpeg":http://storage.ning.com/topology/rest/1.0/
 file/get/1663686802?profile=original
ATTENDEE;ROLE=REQ-PARTICIPANT;PARTSTAT=ACCEPTED;RSVP=TRUE;CN=florence:
 https://epanews.fr/profile/DUBROCHE
END:VEVENT
END:VCALENDAR
