BEGIN:VCALENDAR
PRODID:NingEventWidget-v1
VERSION:2.0
METHOD:PUBLISH
BEGIN:VTIMEZONE
TZID:Europe/Paris
X-LIC-LOCATION:Europe/Paris
BEGIN:DAYLIGHT
TZOFFSETFROM:+0100
TZOFFSETTO:+0200
TZNAME:CEST
DTSTART:19700329T020000
RRULE:FREQ=YEARLY;BYMONTH=3;BYDAY=-1SU
END:DAYLIGHT
BEGIN:STANDARD
TZOFFSETFROM:+0200
TZOFFSETTO:+0100
TZNAME:CET
DTSTART:19701025T030000
RRULE:FREQ=YEARLY;BYMONTH=10;BYDAY=-1SU
END:STANDARD
END:VTIMEZONE
BEGIN:VEVENT
UID:2485226:Event:2266329
DTSTAMP:20260420T205951Z
SUMMARY:la Semence par Carol Salter
DESCRIPTION:“La Semence” à été transmise à Carol Salter des pl
 ans subtils en mars 2013. Elle est née pour accompagner les êtres qu
 i ont pour vocation de se réaliser spirituellement et de contribuer, 
 par leur exemple et leur créativité, au processus d’ascension plan
 étaire.\n \nC’est un processus curatif qui vise à l’harmonisati
 on progressive du corps physique, de la personnalité et des différen
 ts plans de l’âme. Il invite l’âme à s’établir dans le bassi
 n et à se reconnecter à sa matrice. L’être se rapproche ainsi de 
 son essence, de sa raison d’être et s’établit progressivement da
 ns son alignement, sa verticalité et son ancrage.\n \nIl en résulte
  une densification de l’âme dans le corps physique, une créativit
  augmentée, une plus grande connaissance et une reconnaissance de so
 i, ainsi que, l’ouverture et l’amplification de certains dons ou c
 apacités psychiques.\n \nLa Semence est avant tout un engagement env
 ers soi-même dans le sens le plus profond du terme.\n \nElle s’adr
 esse à tous ceux qui…\n \n- Sont sur la voie de l’intégrité et
  de l’amour inconditionnel,\n- Ont eu le courage de commencer à acc
 ueillir leurs ombres et panser leurs blessures,\n- Rêvent d’une vie
  qui reflète leur monde intérieur,\n- Se veulent co-acteurs du proce
 ssus d’évolution planétaire.\n\nLire la suite et inscription ici 
 : http://www.serenitycenter.be/?post_type=ajde_events&p=3398?l=L2&\n\
 nPour plus d'information, aller sur https://epanews.fr/events/la-semen
 ce-par-carol-salter
DTSTART;TZID=Europe/Paris:20150427T180000
DTEND;TZID=Europe/Paris:20150429T190000
CATEGORIES:belgique
LOCATION:Serenity-center
WEBSITE:http://www.serenitycenter.be/?post_type=ajde_events&p=3398?l=L
 2&
URL:http://www.serenitycenter.be/?post_type=ajde_events&p=3398?l=L2&
CONTACT:+3280480124
ORGANIZER;CN=Serenity-Center:https://epanews.fr/profile/SerenityCenter
ATTACH;FMTTYPE="image/jpeg":http://storage.ning.com/topology/rest/1.0/
 file/get/1663353490?profile=original
ATTENDEE;ROLE=REQ-PARTICIPANT;PARTSTAT=ACCEPTED;RSVP=TRUE;CN=Serenity-
 Center:https://epanews.fr/profile/SerenityCenter
END:VEVENT
END:VCALENDAR
