BEGIN:VCALENDAR
PRODID:NingEventWidget-v1
VERSION:2.0
METHOD:PUBLISH
BEGIN:VTIMEZONE
TZID:Europe/Paris
X-LIC-LOCATION:Europe/Paris
BEGIN:DAYLIGHT
TZOFFSETFROM:+0100
TZOFFSETTO:+0200
TZNAME:CEST
DTSTART:19700329T020000
RRULE:FREQ=YEARLY;BYMONTH=3;BYDAY=-1SU
END:DAYLIGHT
BEGIN:STANDARD
TZOFFSETFROM:+0200
TZOFFSETTO:+0100
TZNAME:CET
DTSTART:19701025T030000
RRULE:FREQ=YEARLY;BYMONTH=10;BYDAY=-1SU
END:STANDARD
END:VTIMEZONE
BEGIN:VEVENT
UID:2485226:Event:2186496
DTSTAMP:20260425T154137Z
SUMMARY:La Semaine du DÃ©veloppement 2015 - Ã©dition \"Soft Skills\"
DESCRIPTION:Tout au long de la semaine, du 26 janvier au 01 fÃ©vrier 2
 015, retrouvez nos confÃ©renciers en direct vous enseigner leur expert
 ise. Inscrivez-vous, c'est gratuit !\n\n11 experts\n\n\n\n10 web-confÃ
 ©rences \"live\"\n\nNombreux cadeaux Ã  gagner !\n\n\nhttp://la-semain
 e.com/\n\n\nPour plus d'information, aller sur https://epanews.fr/even
 ts/la-semaine-du-d-veloppement-2015
DTSTART;TZID=Europe/Paris:20150125T203000
DTEND;TZID=Europe/Paris:20150201T214500
CATEGORIES:tous
LOCATION:en ligne
WEBSITE:http://la-semaine.com/
URL:http://la-semaine.com/
CONTACT:0033649476917
ORGANIZER;CN="Nicolas Lisiak":https://epanews.fr/profile/MikolajLisiak
ATTACH;FMTTYPE="image/jpeg":http://storage.ning.com/topology/rest/1.0/
 file/get/1663306484?profile=original
ATTENDEE;ROLE=REQ-PARTICIPANT;PARTSTAT=ACCEPTED;RSVP=TRUE;CN="Nicolas 
 Lisiak":https://epanews.fr/profile/MikolajLisiak
END:VEVENT
END:VCALENDAR
