BEGIN:VCALENDAR
PRODID:NingEventWidget-v1
VERSION:2.0
METHOD:PUBLISH
BEGIN:VTIMEZONE
TZID:Europe/Paris
X-LIC-LOCATION:Europe/Paris
BEGIN:DAYLIGHT
TZOFFSETFROM:+0100
TZOFFSETTO:+0200
TZNAME:CEST
DTSTART:19700329T020000
RRULE:FREQ=YEARLY;BYMONTH=3;BYDAY=-1SU
END:DAYLIGHT
BEGIN:STANDARD
TZOFFSETFROM:+0200
TZOFFSETTO:+0100
TZNAME:CET
DTSTART:19701025T030000
RRULE:FREQ=YEARLY;BYMONTH=10;BYDAY=-1SU
END:STANDARD
END:VTIMEZONE
BEGIN:VEVENT
UID:2485226:Event:1195251
DTSTAMP:20260422T202852Z
SUMMARY:La science atomique du coeur.
DESCRIPTION:\nSamedi 27 Avril 2013  à 15h - TOULON, Hôtel Holyday
  Inn 1 avenue Rageot de la Touche\nLa science atomique du coeur\nSavon
 s-nous que notre cœur est un réacteur nucléaire, un puissant réact
 eur dirigé par une sagesse inconnue du monde? Ce réacteur, s'il est 
 activé, bombarde notre être de particules et de rayonnements atomiqu
 es au pouvoir transformant et re créateur. Alors un homme nouveau app
 araît.\n\nEntrée libre et gratuite.\n\nPour plus d'information, alle
 r sur https://epanews.fr/events/la-science-atomique-du-coeur
DTSTART;TZID=Europe/Paris:20130427T150000
DTEND;TZID=Europe/Paris:20130427T170000
CATEGORIES:83
LOCATION:TOULON
WEBSITE:http://toulon-nice.rose-croix-d-or.org/
URL:http://toulon-nice.rose-croix-d-or.org/
CONTACT:
ORGANIZER:ROSE CROIX D'OR
ATTACH;FMTTYPE="image/jpeg":http://storage.ning.com/topology/rest/1.0/
 file/get/1662762436?profile=original
ATTENDEE;ROLE=REQ-PARTICIPANT;PARTSTAT=ACCEPTED;RSVP=TRUE;CN="THERAPY 
 BIEN ETRE":https://epanews.fr/profile/cristalviolet
ATTENDEE;ROLE=REQ-PARTICIPANT;PARTSTAT=ACCEPTED;RSVP=TRUE;CN="jean cla
 ude":https://epanews.fr/profile/Adamowski
END:VEVENT
END:VCALENDAR
