BEGIN:VCALENDAR
PRODID:NingEventWidget-v1
VERSION:2.0
METHOD:PUBLISH
BEGIN:VTIMEZONE
TZID:Europe/Paris
X-LIC-LOCATION:Europe/Paris
BEGIN:DAYLIGHT
TZOFFSETFROM:+0100
TZOFFSETTO:+0200
TZNAME:CEST
DTSTART:19700329T020000
RRULE:FREQ=YEARLY;BYMONTH=3;BYDAY=-1SU
END:DAYLIGHT
BEGIN:STANDARD
TZOFFSETFROM:+0200
TZOFFSETTO:+0100
TZNAME:CET
DTSTART:19701025T030000
RRULE:FREQ=YEARLY;BYMONTH=10;BYDAY=-1SU
END:STANDARD
END:VTIMEZONE
BEGIN:VEVENT
UID:2485226:Event:180570
DTSTAMP:20260424T092142Z
SUMMARY:la santé holistique
DESCRIPTION:j'organise une réunion d'information sur la réharmonisat
 ion des énergies la libération des mémoires,la gestion de la pensé
 e, l'influence des vies antérieures, de la psychogénéalogie, des ac
 tes et des pensées, des projets.\n.Expériences vécues durant 13 ann
 ées de pratique et de recherche.\na bientôt de vous rencontrer\n\nPo
 ur plus d'information, aller sur https://epanews.fr/events/la-sante-ho
 listique
DTSTART;TZID=Europe/Paris:20110115T143000
DTEND;TZID=Europe/Paris:20110115T173000
CATEGORIES:05
LOCATION:GAP
WEBSITE:
URL:
CONTACT:0492520273 (hotel)
ORGANIZER;CN="marie-francoise BERRUYER":https://epanews.fr/profile/fra
 nce
ATTACH;FMTTYPE="image/jpeg":http://storage.ning.com/topology/rest/1.0/
 file/get/1662371592?profile=original
ATTENDEE;ROLE=REQ-PARTICIPANT;PARTSTAT=ACCEPTED;RSVP=TRUE;CN="marie-fr
 ancoise BERRUYER":https://epanews.fr/profile/france
END:VEVENT
END:VCALENDAR
