BEGIN:VCALENDAR
PRODID:NingEventWidget-v1
VERSION:2.0
METHOD:PUBLISH
BEGIN:VTIMEZONE
TZID:Europe/Paris
X-LIC-LOCATION:Europe/Paris
BEGIN:DAYLIGHT
TZOFFSETFROM:+0100
TZOFFSETTO:+0200
TZNAME:CEST
DTSTART:19700329T020000
RRULE:FREQ=YEARLY;BYMONTH=3;BYDAY=-1SU
END:DAYLIGHT
BEGIN:STANDARD
TZOFFSETFROM:+0200
TZOFFSETTO:+0100
TZNAME:CET
DTSTART:19701025T030000
RRULE:FREQ=YEARLY;BYMONTH=10;BYDAY=-1SU
END:STANDARD
END:VTIMEZONE
BEGIN:VEVENT
UID:2485226:Event:1624948
DTSTAMP:20260423T045722Z
SUMMARY:la sagesse des contes :  conférence le jeudi 14 novembre à 1
 8h15
DESCRIPTION:les contes merveilleux sont des contes miraculeux ,ils vie
 nnent nous parler de notre histoire;\n3 personnages principaux ,le roi
  ,le héros et la fée\nle roi ,fonction politique, veut un changement
  dans le royaume et fait appel au héros pour agir. le héros si il es
 t en adhésion infinie à la demande du roi va rencontrer la fée sur 
 son chemin qui lui donnera les outils dont il a besoin .\nces instance
 s sont en nous mêmes , si nous avons une demande de changement dans n
 otre vie ,,,\nsi nous voulons franchir des obstacles ... la sagesse de
 s contes vient nous enseigner sur comment s'y prendre\ndes ateliers de
  groupe, réguliers, de développement personnel permettront ensuite d
 e mettre cela en mouvement\n\n\nPour plus d'information, aller sur htt
 ps://epanews.fr/events/la-sagesse-des-contes-conf-rence-le-jeudi-14-no
 vembre-18h15
DTSTART;TZID=Europe/Paris:20131114T181500
DTEND;TZID=Europe/Paris:20131114T191500
CATEGORIES:05
LOCATION:librairie alpine (maison de la presse)
WEBSITE:http://www.psy-autrement;com
URL:http://www.psy-autrement;com
CONTACT:04 92579897
ORGANIZER:marie annick de chabalier
ATTACH;FMTTYPE="image/jpeg":
ATTENDEE;ROLE=REQ-PARTICIPANT;PARTSTAT=ACCEPTED;RSVP=TRUE;CN=Barbara:h
 ttps://epanews.fr/profile/Barbara
END:VEVENT
END:VCALENDAR
