BEGIN:VCALENDAR
PRODID:NingEventWidget-v1
VERSION:2.0
METHOD:PUBLISH
BEGIN:VTIMEZONE
TZID:Europe/Paris
X-LIC-LOCATION:Europe/Paris
BEGIN:DAYLIGHT
TZOFFSETFROM:+0100
TZOFFSETTO:+0200
TZNAME:CEST
DTSTART:19700329T020000
RRULE:FREQ=YEARLY;BYMONTH=3;BYDAY=-1SU
END:DAYLIGHT
BEGIN:STANDARD
TZOFFSETFROM:+0200
TZOFFSETTO:+0100
TZNAME:CET
DTSTART:19701025T030000
RRULE:FREQ=YEARLY;BYMONTH=10;BYDAY=-1SU
END:STANDARD
END:VTIMEZONE
BEGIN:VEVENT
UID:2485226:Event:2329331
DTSTAMP:20260422T171951Z
SUMMARY:La Rose-Croix : Une Sagesse ancienne pour un Monde nouveau
DESCRIPTION:Cette conférence se déroulera en deux parties :\nLors de
  la première, M. Toussaint expliquera en quoi les Rose-Croix, depuis 
 leur apparition en 1623, n’ont cessé de prôner un enseignement et 
 une philosophie accessibles à tous ceux qui sont en quête d’humani
 sme et de spiritualité, sans distinction de race, de religion ou de c
 lasse sociale.\nDans la deuxième partie de la conférence, il répond
 ra à toutes les questions qui lui seront posées par l’auditoire.\n
 vendredi 12 juin 2015\n20 h 30\nà l’hôtel de l’Horticulture 7 q
 uai Henri Barbusse (Tramway : ligne 2, arrêt Saint Mihiel)\nTarif : 6
 € (3€ pour les étudiants)\n\n\nPour plus d'information, aller sur
  https://epanews.fr/events/la-rose-croix-une-sagesse-ancienne-pour-un-
 monde-nouveau
DTSTART;TZID=Europe/Paris:20150612T203000
DTEND;TZID=Europe/Paris:20150612T220000
CATEGORIES:44
LOCATION:Hôtel de l’Horticulture
WEBSITE:
URL:
CONTACT:
ORGANIZER;CN=sephial:https://epanews.fr/profile/sephial
ATTACH;FMTTYPE="image/jpeg":http://storage.ning.com/topology/rest/1.0/
 file/get/1663399812?profile=original
ATTENDEE;ROLE=REQ-PARTICIPANT;PARTSTAT=ACCEPTED;RSVP=TRUE;CN=sephial:h
 ttps://epanews.fr/profile/sephial
END:VEVENT
END:VCALENDAR
