BEGIN:VCALENDAR
PRODID:NingEventWidget-v1
VERSION:2.0
METHOD:PUBLISH
BEGIN:VTIMEZONE
TZID:Europe/Paris
X-LIC-LOCATION:Europe/Paris
BEGIN:DAYLIGHT
TZOFFSETFROM:+0100
TZOFFSETTO:+0200
TZNAME:CEST
DTSTART:19700329T020000
RRULE:FREQ=YEARLY;BYMONTH=3;BYDAY=-1SU
END:DAYLIGHT
BEGIN:STANDARD
TZOFFSETFROM:+0200
TZOFFSETTO:+0100
TZNAME:CET
DTSTART:19701025T030000
RRULE:FREQ=YEARLY;BYMONTH=10;BYDAY=-1SU
END:STANDARD
END:VTIMEZONE
BEGIN:VEVENT
UID:2485226:Event:321631
DTSTAMP:20260423T074321Z
SUMMARY:la respiration holotropique
DESCRIPTION: \nla respiration holotropique\nméthode d'auto explorati
 on,\nla technique combine d'une manière particulière une respiration
  profonde avec des musiquesspècifiques et un travail corporel si nece
 ssaire.Cette respiration nous amène au coeur de nous mêmes et nous p
 ermet de vivre des expèriences transformatrices et libératrices.\nco
 ût 220 euros le we intensif\n \n \nrespiration%20holotropique%20jui
 llet.doc\n\nPour plus d'information, aller sur https://epanews.fr/even
 ts/la-respiration-holotropique-1
DTSTART;TZID=Europe/Paris:20110701T180000
DTEND;TZID=Europe/Paris:20110703T190000
CATEGORIES:42, 43, 69, 01, 07, 36, 84, 73
LOCATION:Ardeche pres de ST Félicien
WEBSITE:
URL:
CONTACT:
ORGANIZER;CN="Teyssier Anne-Marie":https://epanews.fr/profile/Teyssier
 AnneMarie
ATTACH;FMTTYPE="image/jpeg":
ATTENDEE;ROLE=REQ-PARTICIPANT;PARTSTAT=ACCEPTED;RSVP=TRUE;CN="Teyssier
  Anne-Marie":https://epanews.fr/profile/TeyssierAnneMarie
END:VEVENT
END:VCALENDAR
