BEGIN:VCALENDAR
PRODID:NingEventWidget-v1
VERSION:2.0
METHOD:PUBLISH
BEGIN:VTIMEZONE
TZID:Europe/Paris
X-LIC-LOCATION:Europe/Paris
BEGIN:DAYLIGHT
TZOFFSETFROM:+0100
TZOFFSETTO:+0200
TZNAME:CEST
DTSTART:19700329T020000
RRULE:FREQ=YEARLY;BYMONTH=3;BYDAY=-1SU
END:DAYLIGHT
BEGIN:STANDARD
TZOFFSETFROM:+0200
TZOFFSETTO:+0100
TZNAME:CET
DTSTART:19701025T030000
RRULE:FREQ=YEARLY;BYMONTH=10;BYDAY=-1SU
END:STANDARD
END:VTIMEZONE
BEGIN:VEVENT
UID:2485226:Event:2052999
DTSTAMP:20260426T035006Z
SUMMARY:La Qynergie
DESCRIPTION:Une confÃ©rence pour le changement ...intÃ©rieur\nÂ \nÂ \n
 Accueillir les changementsavec la Qynergie\nÂ \nÂ \nLa vie est en mouv
 ement permanent ; la Qynergie est une approche de la vie offrant une b
 ase solide et souple pour accueillir en soi ces changements incessants
 .Guillaume TAHON, fondateur de la Qynergie, nous invite ce soir Ã  dÃ©
 couvrir cette Â« synergie avec le Qi Â», par la dÃ©couverte de ses not
 ions de bases et surtout par l'expÃ©rimentation.La Qynergie nous perme
 t notamment d'accorder plus de place Ã  une vision vertueuse, Ã  notre
  enfant intÃ©rieur, Ã  notre intuition, reliÃ©s au but de notre vie, Ã
   notre propre Â« masque de jeu Â», Ã  l'expression de notre force int
 Ã©rieure.Retrouver notre vitalitÃ© et vivifier le lien entre notre int
 Ã©rioritÃ© et le monde qui nous environne, c'est ce que nous propose d
 e dÃ©couvrir ce soir la Qynergie.\n\nÂ \nÂ Â  toutes les infos iciÂ Â 
 \nÂ \nConfÃ©rence publique ouverte Ã  tous sans inscription | 10 â‚¬\n
 \nPour plus d'information, aller sur https://epanews.fr/events/la-qyne
 rgie
DTSTART;TZID=Europe/Paris:20141030T194500
DTEND;TZID=Europe/Paris:20141030T223000
CATEGORIES:34
LOCATION:Montpellier - Centre Lacordaire
WEBSITE:http://www.happyplanete.org/evenement-405-accueillir-les-chang
 ements-avec-la-qynergie.html
URL:http://www.happyplanete.org/evenement-405-accueillir-les-changemen
 ts-avec-la-qynergie.html
CONTACT:
ORGANIZER;CN="Franck Dagorn":https://epanews.fr/profile/FranckDagorn
ATTACH;FMTTYPE="image/jpeg":http://storage.ning.com/topology/rest/1.0/
 file/get/1663215886?profile=original
ATTENDEE;ROLE=REQ-PARTICIPANT;PARTSTAT=ACCEPTED;RSVP=TRUE;CN="Franck D
 agorn":https://epanews.fr/profile/FranckDagorn
END:VEVENT
END:VCALENDAR
