BEGIN:VCALENDAR
PRODID:NingEventWidget-v1
VERSION:2.0
METHOD:PUBLISH
BEGIN:VTIMEZONE
TZID:Europe/Paris
X-LIC-LOCATION:Europe/Paris
BEGIN:DAYLIGHT
TZOFFSETFROM:+0100
TZOFFSETTO:+0200
TZNAME:CEST
DTSTART:19700329T020000
RRULE:FREQ=YEARLY;BYMONTH=3;BYDAY=-1SU
END:DAYLIGHT
BEGIN:STANDARD
TZOFFSETFROM:+0200
TZOFFSETTO:+0100
TZNAME:CET
DTSTART:19701025T030000
RRULE:FREQ=YEARLY;BYMONTH=10;BYDAY=-1SU
END:STANDARD
END:VTIMEZONE
BEGIN:VEVENT
UID:2485226:Event:1372974
DTSTAMP:20260422T233011Z
SUMMARY:La QuÃªte du Bonheur
DESCRIPTION:Atelier Transformation Essentielle\nLes Buts\n- Calmer les
  Ã©motions\n- Tranquilliser le mental\n- Faciliter les choix\n- Attein
 dre un Ã©tat de plÃ©nitude\n\nLa mÃ©thode\nSavez-vous que les Ã©motion
 s sont la porte d'accÃ¨s Ã  une source d'Ã©nergie inÃ©puisable ?\nÂ \n
 Par un amusant jeu de questions-rÃ©ponses, nous vous apprendrons Ã  ut
 iliser cette Ã©nergie, pour atteindre la plÃ©nitude Ã  laquelle vous a
 spirez.\n\nLe Lieu\nDans le Valais Suisse, rÃ©gion de Martigny\nLa Tra
 nsformation Essentielle\nConÃ§ue par deux amÃ©ricaines, Tamara et Coni
 rae Andreas, spÃ©cialistes en PNL, cette mÃ©thode s'appuie Ã©galement 
 sur d'autres sources comme la psychologie Transpersonnelle, qui vise Ã
   harmoniser les diffÃ©rentes tendances de notre personnalitÃ©.\nÂ \nL
 'Ã©nergie Ã©motionnelle est positivÃ©e et utilisÃ©e comme ressource, p
 our atteindre un Ã©tat de plÃ©nitude et l'installer solidement.\n\nPou
 r plus d'information, aller sur https://epanews.fr/events/la-qu-te-du-
 bonheur
DTSTART;TZID=Europe/Paris:20130608T090000
DTEND;TZID=Europe/Paris:20130609T190000
CATEGORIES:tous
LOCATION:Monthey
WEBSITE:http://www.kinessences.ch/cms/index.php?mact=Calendar,cntnt01,
 default,0&cntnt01event_id=61980&cntnt01display=event&cntnt01lang=fr_FR
 &cntnt01detailpage=&cntnt01return_id=16&cntnt01returnid=16
URL:http://www.kinessences.ch/cms/index.php?mact=Calendar,cntnt01,defa
 ult,0&cntnt01event_id=61980&cntnt01display=event&cntnt01lang=fr_FR&cnt
 nt01detailpage=&cntnt01return_id=16&cntnt01returnid=16
CONTACT:00 41 79 303 18 81
ORGANIZER:Antonia Gutierrez
ATTACH;FMTTYPE="image/jpeg":http://storage.ning.com/topology/rest/1.0/
 file/get/1662844032?profile=original
ATTENDEE;ROLE=REQ-PARTICIPANT;PARTSTAT=ACCEPTED;RSVP=TRUE;CN="Marye me
 dium":https://epanews.fr/profile/Genoudduvillaret
END:VEVENT
END:VCALENDAR
