BEGIN:VCALENDAR
PRODID:NingEventWidget-v1
VERSION:2.0
METHOD:PUBLISH
BEGIN:VTIMEZONE
TZID:Europe/Paris
X-LIC-LOCATION:Europe/Paris
BEGIN:DAYLIGHT
TZOFFSETFROM:+0100
TZOFFSETTO:+0200
TZNAME:CEST
DTSTART:19700329T020000
RRULE:FREQ=YEARLY;BYMONTH=3;BYDAY=-1SU
END:DAYLIGHT
BEGIN:STANDARD
TZOFFSETFROM:+0200
TZOFFSETTO:+0100
TZNAME:CET
DTSTART:19701025T030000
RRULE:FREQ=YEARLY;BYMONTH=10;BYDAY=-1SU
END:STANDARD
END:VTIMEZONE
BEGIN:VEVENT
UID:2485226:Event:249592
DTSTAMP:20260424T020137Z
SUMMARY:\"la puissance symbolique du son\" conférence vendredi 15 avr
 il 19h30 CASSIS
DESCRIPTION:Vendredi 15 avril à 19h30 conférence atelier avec Jéré
 my Guéry à CASSIS  avec l'association Les Nouveaux Mondes \"La Langu
 e des Oiseaux ou la puissance symbolique du son\" Pour comprendre notr
 e mission de vie à travers les lettres de notre nom, comprendre nos p
 roblèmes de santé à travers le nom de la maladie et les organes con
 cernés, découvrir enfin la signification cachée des lettres.\nVilla
  Monvert traverse du château Cassis Participation : 10€ et 8€ adh
 érent\n\"Recouvrant un ensemble de procédés permettant d'entendre d
 ifféremment les sons, les mots et les expressions afin d'en faire ém
 erger le sens secret, la Langue des Oiseaux constitue, comme l'alchimi
 e, un chemin initiatique qui permet de permuter les formes pour trouve
 r la Lumière. Appliquée aux prénoms, aux noms de famille ou aux pat
 hologies, elle peut nous aider à découvrir notre chemin de vie, à d
 écoder le sens de nos problèmes de santé ou encore, à entrer dans 
 la signification ésotérique, symbolique et énergétique des lettres
  de notre alphabet.\"\n \n-- Association Les Nouveaux MondesIsabelle D
 uffaud13260 Cassis06 14 65 04 48/04 42 01 17 58site:http://association
 lesnouveauxmondes.com/\n\n\nPour plus d'information, aller sur https:/
 /epanews.fr/events/la-puissance-symbolique-du-son
DTSTART;TZID=Europe/Paris:20110415T193000
DTEND;TZID=Europe/Paris:20110415T210000
CATEGORIES:tous
LOCATION:CASSIS 13260
WEBSITE:http://associationlesnouveauxmondes.com
URL:http://associationlesnouveauxmondes.com
CONTACT:06 14 65 04 48
ORGANIZER;CN="Association Les Nouveaux Mondes":https://epanews.fr/prof
 ile/AssociationLesNouveauxMondes
ATTACH;FMTTYPE="image/jpeg":http://storage.ning.com/topology/rest/1.0/
 file/get/1662401173?profile=original
ATTENDEE;ROLE=REQ-PARTICIPANT;PARTSTAT=ACCEPTED;RSVP=TRUE;CN="Associat
 ion Les Nouveaux Mondes":https://epanews.fr/profile/AssociationLesNouv
 eauxMondes
END:VEVENT
END:VCALENDAR
