BEGIN:VCALENDAR
PRODID:NingEventWidget-v1
VERSION:2.0
METHOD:PUBLISH
BEGIN:VTIMEZONE
TZID:Europe/Paris
X-LIC-LOCATION:Europe/Paris
BEGIN:DAYLIGHT
TZOFFSETFROM:+0100
TZOFFSETTO:+0200
TZNAME:CEST
DTSTART:19700329T020000
RRULE:FREQ=YEARLY;BYMONTH=3;BYDAY=-1SU
END:DAYLIGHT
BEGIN:STANDARD
TZOFFSETFROM:+0200
TZOFFSETTO:+0100
TZNAME:CET
DTSTART:19701025T030000
RRULE:FREQ=YEARLY;BYMONTH=10;BYDAY=-1SU
END:STANDARD
END:VTIMEZONE
BEGIN:VEVENT
UID:2485226:Event:432143
DTSTAMP:20260423T013416Z
SUMMARY:\"La puissance des pensées\"
DESCRIPTION:La revue \"Monde du Graal\" invite le conférencier Claude
  Thibeaudeau sur le thème de la puissance des pensées : Nos pensées
  ont-elles un pouvoir caché ? Influences-elles notre destin ? Peuvent
 -elles exercer une influence sur notre corps, notre personnalité, sur
  d'autres personnes ? Y a-t-il une bonne et une mauvaise manière de p
 enser ? Notre bonheur et notre épanouissement sont-ils liés à notre
  façon de penser ? Participation 7 et 5 euros.\n\nPour plus d'informa
 tion, aller sur https://epanews.fr/events/la-puissance-des-pens-es
DTSTART;TZID=Europe/Paris:20111104T170000
DTEND;TZID=Europe/Paris:20111104T190000
CATEGORIES:41
LOCATION:BLOIS
WEBSITE:http://graal.org
URL:http://graal.org
CONTACT:06 60 70 54 79
ORGANIZER;CN="Bernard Penverne":https://epanews.fr/profile/BernardPenv
 erne
ATTACH;FMTTYPE="image/jpeg":
ATTENDEE;ROLE=REQ-PARTICIPANT;PARTSTAT=ACCEPTED;RSVP=TRUE;CN="Bernard 
 Penverne":https://epanews.fr/profile/BernardPenverne
END:VEVENT
END:VCALENDAR
