BEGIN:VCALENDAR
PRODID:NingEventWidget-v1
VERSION:2.0
METHOD:PUBLISH
BEGIN:VTIMEZONE
TZID:Europe/Paris
X-LIC-LOCATION:Europe/Paris
BEGIN:DAYLIGHT
TZOFFSETFROM:+0100
TZOFFSETTO:+0200
TZNAME:CEST
DTSTART:19700329T020000
RRULE:FREQ=YEARLY;BYMONTH=3;BYDAY=-1SU
END:DAYLIGHT
BEGIN:STANDARD
TZOFFSETFROM:+0200
TZOFFSETTO:+0100
TZNAME:CET
DTSTART:19701025T030000
RRULE:FREQ=YEARLY;BYMONTH=10;BYDAY=-1SU
END:STANDARD
END:VTIMEZONE
BEGIN:VEVENT
UID:2485226:Event:2334426
DTSTAMP:20260422T154211Z
SUMMARY:Modification demandÃ©e
DESCRIPTION:\"LA PUISSANCE DE LA REGENERATION\"\nConfÃ©rences croisÃ©e
 s le 31 mai Ã  Toulouse :\n* Thierry Casasnovas (de \"RÃ©gÃ©nÃ¨re - Vi
 vre Cru\") :Â \"Le procÃ¨s du corps humain - DÃ©claration des devoirs 
 de l'Homme\"\n* Eric Escoffier (de \"Permaculture sans FrontiÃ¨res \")
  : ConfÃ©rence sur la permaculture : \"Bienvenue dans le monde rÃ©gÃ©n
 Ã©ratif !\"\n+ UN CONCERT ET UN BAR A JUS\nGroupe : JEDAPAMA\nLieu : H
 all nÂ°8, Annexe du Parc des Expositions de Toulouse, rue Fernand Jour
 dant, 31400 Toulouse.\nHoraire : 14h-20h30\nLA PARTICIPATION FINANCIER
 E EST LIBRE\nPrendre soin du corps. Prendre soin de la terre. Venez dÃ
 ©couvrir comment agir.\nDÃ©couvrez en quoi l'alimentation conditionne 
 notre qualitÃ© de vie. dÃ©couvrez comment rÃ©gÃ©nÃ©rer les Ã©co-sytÃ¨m
 es vivants...\nVous pouvez diffuser l'Ã©vÃ©nement sur FB : www.faceboo
 k.com/events/384205418444309\n\nPour plus d'information, aller sur htt
 ps://epanews.fr/events/la-puissance-de-la-regeneration-conf-rences-cro
 is-es-entre
DTSTART;TZID=Europe/Paris:20150531T000000
DTEND;TZID=Europe/Paris:20150531T235900
CATEGORIES:31
LOCATION:Hall nÂ°8, Annexe du Parc des Expositions de Toulouse
WEBSITE:http://www.permaculture-sans-frontieres.org/fr/calendrier-form
 ations
URL:http://www.permaculture-sans-frontieres.org/fr/calendrier-formatio
 ns
CONTACT:
ORGANIZER:L'asso \"Nous l'HumanitÃ©\", \"RÃ©gÃ©nÃ¨re - Vivre Cru\" et 
 \"Permaculture et reforestation sans frontiÃ¨res\"
ATTACH;FMTTYPE="image/jpeg":http://storage.ning.com/topology/rest/1.0/
 file/get/1663402673?profile=original
ATTENDEE;ROLE=REQ-PARTICIPANT;PARTSTAT=ACCEPTED;RSVP=TRUE;CN="Eric Esc
 offier - Permaculture":https://epanews.fr/profile/EricEscoffierPermacu
 lture
END:VEVENT
END:VCALENDAR
