BEGIN:VCALENDAR
PRODID:NingEventWidget-v1
VERSION:2.0
METHOD:PUBLISH
BEGIN:VTIMEZONE
TZID:Europe/Paris
X-LIC-LOCATION:Europe/Paris
BEGIN:DAYLIGHT
TZOFFSETFROM:+0100
TZOFFSETTO:+0200
TZNAME:CEST
DTSTART:19700329T020000
RRULE:FREQ=YEARLY;BYMONTH=3;BYDAY=-1SU
END:DAYLIGHT
BEGIN:STANDARD
TZOFFSETFROM:+0200
TZOFFSETTO:+0100
TZNAME:CET
DTSTART:19701025T030000
RRULE:FREQ=YEARLY;BYMONTH=10;BYDAY=-1SU
END:STANDARD
END:VTIMEZONE
BEGIN:VEVENT
UID:2485226:Event:801648
DTSTAMP:20260421T201433Z
SUMMARY:La pratique du zen
DESCRIPTION:La pratique du zen : conférence et initiation avec Patric
 k Pargnien, moine zen.\n\nPour plus d'information, aller sur https://e
 panews.fr/events/la-pratique-du-zen
DTSTART;TZID=Europe/Paris:20120519T110000
DTEND;TZID=Europe/Paris:20120519T120000
CATEGORIES:33
LOCATION:Centre de méditation zen
WEBSITE:http://www.zen-bordeaux.org
URL:http://www.zen-bordeaux.org
CONTACT:05 56 91 18 89
ORGANIZER:
ATTACH;FMTTYPE="image/jpeg":
ATTENDEE;ROLE=REQ-PARTICIPANT;PARTSTAT=ACCEPTED;RSVP=TRUE;CN="Centre d
 e méditation zen":https://epanews.fr/profile/Centredemeditationzen
END:VEVENT
END:VCALENDAR
