BEGIN:VCALENDAR
PRODID:NingEventWidget-v1
VERSION:2.0
METHOD:PUBLISH
BEGIN:VTIMEZONE
TZID:Europe/Paris
X-LIC-LOCATION:Europe/Paris
BEGIN:DAYLIGHT
TZOFFSETFROM:+0100
TZOFFSETTO:+0200
TZNAME:CEST
DTSTART:19700329T020000
RRULE:FREQ=YEARLY;BYMONTH=3;BYDAY=-1SU
END:DAYLIGHT
BEGIN:STANDARD
TZOFFSETFROM:+0200
TZOFFSETTO:+0100
TZNAME:CET
DTSTART:19701025T030000
RRULE:FREQ=YEARLY;BYMONTH=10;BYDAY=-1SU
END:STANDARD
END:VTIMEZONE
BEGIN:VEVENT
UID:2485226:Event:1560790
DTSTAMP:20260423T133201Z
SUMMARY:La Nouvelle ère de Lumière - Les Lettres Finales.
DESCRIPTION:  \n      \"Les Lettres Finales\":\n(suite du module 
 1: les 22 lettres)\nLes Chemins de l’œuvre Divine.\" \n\nLa nouvel
 le Ere de Lumière,\nLes 13 voies de la sagesse\nLa Shekhina.\nL’Hom
 me a reçu la Vie par l’alphabet. Il la reçoit, la transforme et l
 a restitue. Dans la Kabbale, il est dit que le sentier 13 est inaccess
 ible…\nAvec les Lettres Finales nous nous approchons de ce sentier. 
 C’est une ouverture vers le futur et c’est pour cela que ces lettr
 es dorées sont également appelées “prophétiques”.\nQuel est le
  véritable sens de la Vie ? Nous sommes nous-mêmes, dit la kabbale,
  lorsque nous vivons notre vie dans la joie, le plaisir, de manière p
 leine et totale. \nDates des stages pour 2014 :\nDu 16 au 19 janvier
  2014.\nDu 21 au 24 mars 2014,\nDu 13 au 16 juin  2014\nPrès d’And
 uze, Domaine « Le Ribas », aux Portes des Cévennes.\nLe stage se
  déroule en 2  jours 1/2 : il y a les  5 dernières lettres, nous
  ré-activons, méditons et faisons un travail spécifique avec chacun
 e d’elles. Chaque lettre possède une vibration spécifique que nous
  travaillerons en merkaba.\nPlanning du stage :\nJeudi 16 : Arrivée
  au Ribas en fin d’après midi.\nVendredi 17 : méditation ouvertur
 e du cœur, L’arbre de Vie,\nThéorie et méditations\nSamedi 18 : 
 méditation ouverture du cœur, Théorie et méditations\nDimanche 19
 : méditation ouverture du cœur, pratiques de soins. Fin du stage ve
 rs 12h30.\nInvestissement: 330 euros comprenant: Cours théorique (fa
 scicule copié sur une mémoire USB à la fin du stage), initiation et
  méditation avec les lettres finales. (Hors hébergement).\n*places l
 imitées à 10-12 personnes(uniquement pour les personnes ayant suivi
  le Module1. – prochain module 1 du 25 janvier au 1èr février2014)
 \npour de plus amples informations: krisaya@ymail.com\nMatériels req
 uis: un cahier ou autre pour prendre des notes, un tapis de méditatio
 n, une clé USB.\nPour s’inscrire: me retourner par mail la fiche d
 inscription. Une fois le règlement effectué, je vous enverrai la c
 onfirmation de votre inscription.\n \n\n\n\n\n\n\nPour plus d'informa
 tion, aller sur https://epanews.fr/events/la-nouvelle-re-de-lumi-re-le
 s-lettres-finales
DTSTART;TZID=Europe/Paris:20140116T170000
DTEND;TZID=Europe/Paris:20140119T003000
CATEGORIES:30
LOCATION:Le Ribas
WEBSITE:
URL:
CONTACT:
ORGANIZER;CN="Le Domaine du Ribas":https://epanews.fr/profile/LeRibas
ATTACH;FMTTYPE="image/jpeg":
ATTENDEE;ROLE=REQ-PARTICIPANT;PARTSTAT=ACCEPTED;RSVP=TRUE;CN="Le Domai
 ne du Ribas":https://epanews.fr/profile/LeRibas
END:VEVENT
END:VCALENDAR
